BEGIN:VCALENDAR
VERSION:2.0
PRODID:-//Lead Dog Brewing - ECPv6.0.6.1//NONSGML v1.0//EN
CALSCALE:GREGORIAN
METHOD:PUBLISH
X-ORIGINAL-URL:https://leaddogbrewing.com
X-WR-CALDESC:Events for Lead Dog Brewing
REFRESH-INTERVAL;VALUE=DURATION:PT1H
X-Robots-Tag:noindex
X-PUBLISHED-TTL:PT1H
BEGIN:VTIMEZONE
TZID:America/Los_Angeles
BEGIN:DAYLIGHT
TZOFFSETFROM:-0800
TZOFFSETTO:-0700
TZNAME:PDT
DTSTART:20230312T100000
END:DAYLIGHT
BEGIN:STANDARD
TZOFFSETFROM:-0700
TZOFFSETTO:-0800
TZNAME:PST
DTSTART:20231105T090000
END:STANDARD
END:VTIMEZONE
BEGIN:VEVENT
DTSTART;TZID=America/Los_Angeles:20230325T160000
DTEND;TZID=America/Los_Angeles:20230325T200000
DTSTAMP:20260424T184213
CREATED:20230306T205236Z
LAST-MODIFIED:20230306T205236Z
UID:10000808-1679760000-1679774400@leaddogbrewing.com
SUMMARY:Nevada Storm Womens Football Kickoff Party
DESCRIPTION:Join us in kicking off the 2023 season for the Nevada Storm! This is the 8th annual All you can Eat Kickoff Fundraiser.  \nWhen: Saturday March 25th at Lead Dog Brewing. Kickoff is at 4pm and will go until 8pm!  \nAll you can eat will be provided by Kika’s Grindz Hawaiian BBQ.  \nThere will be a silent auction\, raffle and beer pong tournament.  \nPrices:  \nAll-you-can eat and 3 alcoholic drink vouchers $30 at the door.  \nAll-you-can eat and 3 non-alcoholic drink vouchers $20 at the door.  \nPurchase your tickets in advance and receive $5 off! Tickets can be purchased online thru the Nevada Storm womens football website store\, or at the door of the event.  \nMust be 21+ to attend.  \n 
URL:https://leaddogbrewing.com/event/nevada-storm-womens-football-kickoff-party/
LOCATION:Downtown Taproom\, 415 E 4th Street\, Reno\, NV\, 89512\, United States
ATTACH;FMTTYPE=image/jpeg:https://leaddogbrewing.com/wp-content/uploads/2023/03/IMG_7705.jpg
END:VEVENT
END:VCALENDAR