BEGIN:VCALENDAR
VERSION:2.0
PRODID:-//Lead Dog Brewing - ECPv6.0.6.1//NONSGML v1.0//EN
CALSCALE:GREGORIAN
METHOD:PUBLISH
X-WR-CALNAME:Lead Dog Brewing
X-ORIGINAL-URL:https://leaddogbrewing.com
X-WR-CALDESC:Events for Lead Dog Brewing
REFRESH-INTERVAL;VALUE=DURATION:PT1H
X-Robots-Tag:noindex
X-PUBLISHED-TTL:PT1H
BEGIN:VTIMEZONE
TZID:America/Los_Angeles
BEGIN:DAYLIGHT
TZOFFSETFROM:-0800
TZOFFSETTO:-0700
TZNAME:PDT
DTSTART:20230312T100000
END:DAYLIGHT
BEGIN:STANDARD
TZOFFSETFROM:-0700
TZOFFSETTO:-0800
TZNAME:PST
DTSTART:20231105T090000
END:STANDARD
END:VTIMEZONE
BEGIN:VEVENT
DTSTART;TZID=America/Los_Angeles:20230327T180000
DTEND;TZID=America/Los_Angeles:20230327T200000
DTSTAMP:20260424T150828
CREATED:20230201T202810Z
LAST-MODIFIED:20230227T202447Z
UID:10000274-1679940000-1679947200@leaddogbrewing.com
SUMMARY:Paint and Sip Sparks Taproom
DESCRIPTION:Join us for our first Paint and Sip event! This will be held on March 27th 6pm-8pm at our Sparks Taproom. Join us to paint an amazing nature scene with your significant other or a group of friends! Click the “info” button to secure your tickets now.  \n– \nIf you purchase before 3/13 use code: LDS31323 for $5 off!
URL:https://leaddogbrewing.com/event/paint-and-sip-sparks-taproom-lead-dog-brewing/
LOCATION:Sparks Taproom\, 305 E Glendale Ave.\, Sparks\, NV\, 89431
ATTACH;FMTTYPE=image/png:https://leaddogbrewing.com/wp-content/uploads/2023/02/Spring-Wildflowers-at-lead-dog-sparks-IG-.png
END:VEVENT
BEGIN:VEVENT
DTSTART;TZID=America/Los_Angeles:20230327T190000
DTEND;TZID=America/Los_Angeles:20230327T210000
DTSTAMP:20260424T150828
CREATED:20221214T205945Z
LAST-MODIFIED:20230201T225328Z
UID:10000021-1679943600-1679950800@leaddogbrewing.com
SUMMARY:DJ-Trivia
DESCRIPTION:Vibes\, music\, beer\, & cocktails. Featuring: Dirty Laundry\, Gina Rose Waller\, & Josiah Knight \n 
URL:https://leaddogbrewing.com/event/dj-trivia/2023-03-27/
LOCATION:Downtown Taproom\, 415 E 4th Street\, Reno\, NV\, 89512\, United States
ATTACH;FMTTYPE=image/jpeg:https://leaddogbrewing.com/wp-content/uploads/2022/12/LD_TriviaNight_Template.jpg
END:VEVENT
END:VCALENDAR