BEGIN:VCALENDAR
VERSION:2.0
PRODID:-//Lead Dog Brewing - ECPv6.0.6.1//NONSGML v1.0//EN
CALSCALE:GREGORIAN
METHOD:PUBLISH
X-WR-CALNAME:Lead Dog Brewing
X-ORIGINAL-URL:https://leaddogbrewing.com
X-WR-CALDESC:Events for Lead Dog Brewing
REFRESH-INTERVAL;VALUE=DURATION:PT1H
X-Robots-Tag:noindex
X-PUBLISHED-TTL:PT1H
BEGIN:VTIMEZONE
TZID:America/Los_Angeles
BEGIN:DAYLIGHT
TZOFFSETFROM:-0800
TZOFFSETTO:-0700
TZNAME:PDT
DTSTART:20230312T100000
END:DAYLIGHT
BEGIN:STANDARD
TZOFFSETFROM:-0700
TZOFFSETTO:-0800
TZNAME:PST
DTSTART:20231105T090000
END:STANDARD
END:VTIMEZONE
BEGIN:VEVENT
DTSTART;TZID=America/Los_Angeles:20230611T120000
DTEND;TZID=America/Los_Angeles:20230611T160000
DTSTAMP:20260424T093327
CREATED:20230602T175414Z
LAST-MODIFIED:20230602T180447Z
UID:10000810-1686484800-1686499200@leaddogbrewing.com
SUMMARY:Lead Dog Presents: Beers and "Babes?" Drag Show
DESCRIPTION:On Sunday\, June 11th\, come experience a one-of-a-kind Drag Brunch in the heart of Downtown Reno! Featuring bottomless mimosas\, delicious food\, hilarious drag queens\, dancing\, singing\, prize\, and much more! \nThis is a brunch you do NOT want to miss! This month we’re celebrating PRIDE\, so wear your rainbows\, sparkles\, and show your PRIDE to be earn extra entries into this month’s amazing raffle\, with hundreds of dollars worth of prizes. \nTickets on sale at the link. \n#hausoftwampson #drag #dragqueen #Brunch #mimosas #sundaybrunch #thingstodoinreno #Reno #Nevada #DragShow #Comedy #dancing #entertainment #fundaysunday #PRIDE #LeadDogBrewery
URL:https://leaddogbrewing.com/event/lead-dog-presents-beers-and-babes-drag-show-2/
LOCATION:Downtown Taproom\, 415 E 4th Street\, Reno\, NV\, 89512\, United States
ATTACH;FMTTYPE=image/jpeg:https://leaddogbrewing.com/wp-content/uploads/2023/06/June-LD-Brunch.jpg
END:VEVENT
END:VCALENDAR