BEGIN:VCALENDAR
VERSION:2.0
PRODID:-//Lead Dog Brewing - ECPv6.0.6.1//NONSGML v1.0//EN
CALSCALE:GREGORIAN
METHOD:PUBLISH
X-WR-CALNAME:Lead Dog Brewing
X-ORIGINAL-URL:https://leaddogbrewing.com
X-WR-CALDESC:Events for Lead Dog Brewing
REFRESH-INTERVAL;VALUE=DURATION:PT1H
X-Robots-Tag:noindex
X-PUBLISHED-TTL:PT1H
BEGIN:VTIMEZONE
TZID:America/Los_Angeles
BEGIN:DAYLIGHT
TZOFFSETFROM:-0800
TZOFFSETTO:-0700
TZNAME:PDT
DTSTART:20230312T100000
END:DAYLIGHT
BEGIN:STANDARD
TZOFFSETFROM:-0700
TZOFFSETTO:-0800
TZNAME:PST
DTSTART:20231105T090000
END:STANDARD
END:VTIMEZONE
BEGIN:VEVENT
DTSTART;TZID=America/Los_Angeles:20230820T130000
DTEND;TZID=America/Los_Angeles:20230820T160000
DTSTAMP:20260424T055014
CREATED:20230612T214702Z
LAST-MODIFIED:20230726T171711Z
UID:10000811-1692536400-1692547200@leaddogbrewing.com
SUMMARY:Drag Brunch with the Twampsons
DESCRIPTION:Saturday\, August 20th\, join us at LEAD DOG BREWING for a Sunday-Funday drag brunch you’ll never forget! \nDrag Brunch With The Twampsons offers you delicious food and drinks\, bottomless mimosas\, cabaret style performances\, games\, sinfully sweet prizes\, drag queens\, and so much MORE! \nThese tickets go fast\, so get yours today! \nDoors will open at 12:00pm and the show starts at 1:00pm | Event is 21+ \nTicket Information and Add-Ons:\n\nGeneral Admission $20 – Access to the brunch/show and 1 free entry into the prize raffle!\nVIP Admission $30 – Access to the brunch/show\, priority seating\, access to a VIP seating waiter and 3 total entries into the prize raffle! (Limited Quantities available)\n\n***For General Admission – seating is on a first come\, first serve basis. For parties of 5 or more\, tables may be reserved\, but you must contact the organizers and they will do their best to accommodate! \n***Food and Drinks sold separately!
URL:https://leaddogbrewing.com/event/lead-dog-presents-beers-and-babes-drag-show-3/
LOCATION:Downtown Taproom\, 415 E 4th Street\, Reno\, NV\, 89512\, United States
ATTACH;FMTTYPE=image/png:https://leaddogbrewing.com/wp-content/uploads/2023/06/Lead-Dog-Flyer-2.0.png
END:VEVENT
END:VCALENDAR