BEGIN:VCALENDAR
VERSION:2.0
PRODID:-//Lead Dog Brewing - ECPv6.0.6.1//NONSGML v1.0//EN
CALSCALE:GREGORIAN
METHOD:PUBLISH
X-ORIGINAL-URL:https://leaddogbrewing.com
X-WR-CALDESC:Events for Lead Dog Brewing
REFRESH-INTERVAL;VALUE=DURATION:PT1H
X-Robots-Tag:noindex
X-PUBLISHED-TTL:PT1H
BEGIN:VTIMEZONE
TZID:America/Los_Angeles
BEGIN:DAYLIGHT
TZOFFSETFROM:-0800
TZOFFSETTO:-0700
TZNAME:PDT
DTSTART:20230312T100000
END:DAYLIGHT
BEGIN:STANDARD
TZOFFSETFROM:-0700
TZOFFSETTO:-0800
TZNAME:PST
DTSTART:20231105T090000
END:STANDARD
END:VTIMEZONE
BEGIN:VEVENT
DTSTART;TZID=America/Los_Angeles:20231101T180000
DTEND;TZID=America/Los_Angeles:20231101T200000
DTSTAMP:20260424T005221
CREATED:20231025T174431Z
LAST-MODIFIED:20231025T193149Z
UID:10000934-1698861600-1698868800@leaddogbrewing.com
SUMMARY:Eddy House Donation Kick Off Party
DESCRIPTION:Head to our Downtown Taproom on 4th St. at 6pm for The Eddy House November Donation Kickoff! Enjoy beer\, live music\, and more. Proceeds from the sale of Lead Dog’s Huesos de Perro and the Core Four beers (Citra Solo\, Peanut Butter\, Fade to Orange\, and Biggest Little Blonde) throughout November will be donated to Eddy House. \nBe sure to head over to their website to check out all of the other participating businesses that will be donating portions of their sales to them to support their effort is raising awareness about youth homelessness.
URL:https://leaddogbrewing.com/event/edd-house-donation-kick-off-party/
LOCATION:Downtown Taproom\, 415 E 4th Street\, Reno\, NV\, 89512\, United States
ATTACH;FMTTYPE=image/png:https://leaddogbrewing.com/wp-content/uploads/2023/10/NHYAM-Kickoff-Party-4-×-5-in-1.png
END:VEVENT
END:VCALENDAR