BEGIN:VCALENDAR
VERSION:2.0
PRODID:-//Lead Dog Brewing - ECPv6.0.6.1//NONSGML v1.0//EN
CALSCALE:GREGORIAN
METHOD:PUBLISH
X-ORIGINAL-URL:https://leaddogbrewing.com
X-WR-CALDESC:Events for Lead Dog Brewing
REFRESH-INTERVAL;VALUE=DURATION:PT1H
X-Robots-Tag:noindex
X-PUBLISHED-TTL:PT1H
BEGIN:VTIMEZONE
TZID:America/Los_Angeles
BEGIN:DAYLIGHT
TZOFFSETFROM:-0800
TZOFFSETTO:-0700
TZNAME:PDT
DTSTART:20230312T100000
END:DAYLIGHT
BEGIN:STANDARD
TZOFFSETFROM:-0700
TZOFFSETTO:-0800
TZNAME:PST
DTSTART:20231105T090000
END:STANDARD
END:VTIMEZONE
BEGIN:VEVENT
DTSTART;TZID=America/Los_Angeles:20231110T160000
DTEND;TZID=America/Los_Angeles:20231110T190000
DTSTAMP:20260424T022910
CREATED:20231025T183025Z
LAST-MODIFIED:20231025T183025Z
UID:10000936-1699632000-1699642800@leaddogbrewing.com
SUMMARY:Nevada Humane Society Holiday Kitten Calendar Kickoff Party
DESCRIPTION:Adoptable kittens\, firemen\, free beer… join us for all this fun & more at at our downtown Reno taproom Friday\,\nNovember 10th 5:00 – 8:00pm!\n\n\n\nJoin us in celebrating the launch of the Firefighter & Kitten Calendar! The Nevada Humane Society will be there with adoptable kittens and the amazing firefighters who modeled for the calendar!
URL:https://leaddogbrewing.com/event/nevada-humane-society-holiday-kitten-calendar-kickoff-party/
LOCATION:Downtown Taproom\, 415 E 4th Street\, Reno\, NV\, 89512\, United States
ATTACH;FMTTYPE=image/jpeg:https://leaddogbrewing.com/wp-content/uploads/2023/10/317697397_462858332702349_4670347754612114607_n.jpg
END:VEVENT
END:VCALENDAR