BEGIN:VCALENDAR
VERSION:2.0
PRODID:-//Lead Dog Brewing - ECPv6.0.6.1//NONSGML v1.0//EN
CALSCALE:GREGORIAN
METHOD:PUBLISH
X-ORIGINAL-URL:https://leaddogbrewing.com
X-WR-CALDESC:Events for Lead Dog Brewing
REFRESH-INTERVAL;VALUE=DURATION:PT1H
X-Robots-Tag:noindex
X-PUBLISHED-TTL:PT1H
BEGIN:VTIMEZONE
TZID:America/Los_Angeles
BEGIN:DAYLIGHT
TZOFFSETFROM:-0800
TZOFFSETTO:-0700
TZNAME:PDT
DTSTART:20230312T100000
END:DAYLIGHT
BEGIN:STANDARD
TZOFFSETFROM:-0700
TZOFFSETTO:-0800
TZNAME:PST
DTSTART:20231105T090000
END:STANDARD
END:VTIMEZONE
BEGIN:VEVENT
DTSTART;TZID=America/Los_Angeles:20231119T130000
DTEND;TZID=America/Los_Angeles:20231119T160000
DTSTAMP:20260424T022911
CREATED:20231017T232831Z
LAST-MODIFIED:20231025T183109Z
UID:10000933-1700398800-1700409600@leaddogbrewing.com
SUMMARY:Drag Brunch with the Twampsons
DESCRIPTION:Sunday\, November 19th\, join us at LEAD DOG BREWING for a fun filled Drag Brunch With The Twampsons! \nOffering you delicious drinks\, bottomless mimosas\, delicious food\, cabaret style performances\, sinfully sweet prizes sponsored by some of Reno’s favorite local businesses\, sexy fun drag queens\, and so much more! \nTicket Information and Add-Ons:\nGeneral Admission $20 – Access to the brunch/show and 1 free entry into the prize raffle! \nVIP Admission $30 – Access to the brunch/show\, the BEST seats in the house with a special VIP server\, and 3 total entries into the prize raffle! (Limited Quantities available) \n***For General Admission – seating is on a first come\, first serve basis. For parties of 4 or more\, tables may be reserved\, but you must contact the organizers and they will do their best to accommodate! \n***Food and Drinks sold separately! \nDoors open at 12:00pm and the show starts at 1:00pm | Event is 21+
URL:https://leaddogbrewing.com/event/drag-brunch-with-the-twampsons-3/
LOCATION:Downtown Taproom\, 415 E 4th Street\, Reno\, NV\, 89512\, United States
ATTACH;FMTTYPE=image/png:https://leaddogbrewing.com/wp-content/uploads/2023/10/Lead-Dog-Oct-Brunch-Flyer-1.png
END:VEVENT
BEGIN:VEVENT
DTSTART;TZID=America/Los_Angeles:20231119T130000
DTEND;TZID=America/Los_Angeles:20231119T160000
DTSTAMP:20260424T022911
CREATED:20231127T211855Z
LAST-MODIFIED:20231127T211855Z
UID:10000938-1700398800-1700409600@leaddogbrewing.com
SUMMARY:Christmas Drag Brunch with the Twampsons
DESCRIPTION:Sunday\, December 17th\, join us at LEAD DOG BREWING for a very special Christmas edition of Reno’s favorite drag brunch! \nChristmas Brunch With The Twampsons offers you delicious food and drinks\, bottomless mimosas\, cabaret style performances\, games\, sinfully sweet prizes\, drag queens\, and so much MORE! \nTickets sell out every month\, so don’t delay\, get your tickets today! \nOpen seating throughout the bar with access to VIP seating (more information below)! \nDoors will open at 12:00pm and the show starts at 1:00pm | Event is 21+ \nTicket Information and Add-Ons:\nAll tickets include 1 free entry into the prize raffle at the end of the show! \n\nGeneral Admission $20 – Access to the brunch/show!\nVIP Admission $30 – Access to the brunch/show\, priority seating\, access to a VIP seating waiter and a 2+ bonus entries into the prize raffle! (Limited Quantities available)\n\n***Food and Drinks sold separately!
URL:https://leaddogbrewing.com/event/christmas-drag-brunch-with-the-twampsons/
LOCATION:Downtown Taproom\, 415 E 4th Street\, Reno\, NV\, 89512\, United States
ATTACH;FMTTYPE=image/png:https://leaddogbrewing.com/wp-content/uploads/2023/11/LD-Brunch-Xmas-All-Performers.png
END:VEVENT
END:VCALENDAR