BEGIN:VCALENDAR
VERSION:2.0
PRODID:-//Lead Dog Brewing - ECPv6.0.6.1//NONSGML v1.0//EN
CALSCALE:GREGORIAN
METHOD:PUBLISH
X-WR-CALNAME:Lead Dog Brewing
X-ORIGINAL-URL:https://leaddogbrewing.com
X-WR-CALDESC:Events for Lead Dog Brewing
REFRESH-INTERVAL;VALUE=DURATION:PT1H
X-Robots-Tag:noindex
X-PUBLISHED-TTL:PT1H
BEGIN:VTIMEZONE
TZID:America/Los_Angeles
BEGIN:DAYLIGHT
TZOFFSETFROM:-0800
TZOFFSETTO:-0700
TZNAME:PDT
DTSTART:20240310T100000
END:DAYLIGHT
BEGIN:STANDARD
TZOFFSETFROM:-0700
TZOFFSETTO:-0800
TZNAME:PST
DTSTART:20241103T090000
END:STANDARD
END:VTIMEZONE
BEGIN:VEVENT
DTSTART;TZID=America/Los_Angeles:20240121T130000
DTEND;TZID=America/Los_Angeles:20240121T160000
DTSTAMP:20260423T212027
CREATED:20231227T001329Z
LAST-MODIFIED:20240117T234255Z
UID:10000939-1705842000-1705852800@leaddogbrewing.com
SUMMARY:January Drag Brunch with the Twampsons
DESCRIPTION:Sunday\, January 21st\, join us at LEAD DOG BREWING for a fun filled Drag Brunch With The Twampsons! \nOffering you delicious drinks\, bottomless mimosas\, delicious food\, cabaret style performances\, sinfully sweet prizes sponsored by some of Reno’s favorite local businesses\, sexy fun drag queens\, and so much more! \nTicket Information and Add-Ons:\nGeneral Admission $20 – Access to the brunch/show and 1 free entry into the prize raffle! \nVIP Admission $30 – Access to the brunch/show\, the BEST seats in the house with a special VIP server\, and 3 total entries into the prize raffle! (Limited Quantities available) \n***For General Admission – seating is on a first come\, first serve basis. For parties of 4 or more\, tables may be reserved\, but you must contact the organizers and they will do their best to accommodate! \n***Food and Drinks sold separately! \nDoors open at 12:00pm and the show starts at 1:00pm | Event is 21+
URL:https://leaddogbrewing.com/event/january-drag-brunch-with-the-twampsons/
LOCATION:Downtown Taproom\, 415 E 4th Street\, Reno\, NV\, 89512\, United States
ATTACH;FMTTYPE=image/png:https://leaddogbrewing.com/wp-content/uploads/2023/12/LD-2024-Flyer-2.png
END:VEVENT
END:VCALENDAR