BEGIN:VCALENDAR
VERSION:2.0
PRODID:-//Lead Dog Brewing - ECPv6.0.6.1//NONSGML v1.0//EN
CALSCALE:GREGORIAN
METHOD:PUBLISH
X-ORIGINAL-URL:https://leaddogbrewing.com
X-WR-CALDESC:Events for Lead Dog Brewing
REFRESH-INTERVAL;VALUE=DURATION:PT1H
X-Robots-Tag:noindex
X-PUBLISHED-TTL:PT1H
BEGIN:VTIMEZONE
TZID:America/Los_Angeles
BEGIN:DAYLIGHT
TZOFFSETFROM:-0800
TZOFFSETTO:-0700
TZNAME:PDT
DTSTART:20240310T100000
END:DAYLIGHT
BEGIN:STANDARD
TZOFFSETFROM:-0700
TZOFFSETTO:-0800
TZNAME:PST
DTSTART:20241103T090000
END:STANDARD
END:VTIMEZONE
BEGIN:VEVENT
DTSTART;TZID=America/Los_Angeles:20240202T173000
DTEND;TZID=America/Los_Angeles:20240202T203000
DTSTAMP:20260423T211701
CREATED:20240126T194358Z
LAST-MODIFIED:20240126T194358Z
UID:10000952-1706895000-1706905800@leaddogbrewing.com
SUMMARY:Big Blue Q Food Truck @ Reno Taproom
DESCRIPTION:Craft BBQ • Fine Cuisine • Rotating Menu
URL:https://leaddogbrewing.com/event/big-blue-q-food-truck-reno-taproom-4/
LOCATION:Downtown Taproom\, 415 E 4th Street\, Reno\, NV\, 89512\, United States
ATTACH;FMTTYPE=image/webp:https://leaddogbrewing.com/wp-content/uploads/2024/01/bigblueq.webp
END:VEVENT
BEGIN:VEVENT
DTSTART;TZID=America/Los_Angeles:20240202T190000
DTEND;TZID=America/Los_Angeles:20240202T220000
DTSTAMP:20260423T211701
CREATED:20231025T180323Z
LAST-MODIFIED:20240124T231328Z
UID:10000935-1706900400-1706911200@leaddogbrewing.com
SUMMARY:Lead Dog Presents: LIVE JAZZ w/First Take ft Rick Metz
DESCRIPTION:Head to our Downtown Taproom on 4th St. Friday February 2nd for a show like no other! First Take ft. Rick Metz will be taking the back stage and will be playing Jazz music from 7PM-10PM. \nNo ticket purchase necessary\, this is an event open to the public.
URL:https://leaddogbrewing.com/event/lead-dog-presents-live-jazz-w-first-take-ft-rick-metz/
LOCATION:Downtown Taproom\, 415 E 4th Street\, Reno\, NV\, 89512\, United States
ATTACH;FMTTYPE=image/jpeg:https://leaddogbrewing.com/wp-content/uploads/2023/10/393739037_721120003170690_7827003174548237589_n.jpg
END:VEVENT
END:VCALENDAR