BEGIN:VCALENDAR
VERSION:2.0
PRODID:-//Lead Dog Brewing - ECPv6.0.6.1//NONSGML v1.0//EN
CALSCALE:GREGORIAN
METHOD:PUBLISH
X-WR-CALNAME:Lead Dog Brewing
X-ORIGINAL-URL:https://leaddogbrewing.com
X-WR-CALDESC:Events for Lead Dog Brewing
REFRESH-INTERVAL;VALUE=DURATION:PT1H
X-Robots-Tag:noindex
X-PUBLISHED-TTL:PT1H
BEGIN:VTIMEZONE
TZID:America/Los_Angeles
BEGIN:DAYLIGHT
TZOFFSETFROM:-0800
TZOFFSETTO:-0700
TZNAME:PDT
DTSTART:20240310T100000
END:DAYLIGHT
BEGIN:STANDARD
TZOFFSETFROM:-0700
TZOFFSETTO:-0800
TZNAME:PST
DTSTART:20241103T090000
END:STANDARD
END:VTIMEZONE
BEGIN:VEVENT
DTSTART;TZID=America/Los_Angeles:20240209T170000
DTEND;TZID=America/Los_Angeles:20240209T220000
DTSTAMP:20260423T211119
CREATED:20240131T183804Z
LAST-MODIFIED:20240131T183804Z
UID:10000957-1707498000-1707516000@leaddogbrewing.com
SUMMARY:Riwaka Flocka Flame Release Party
DESCRIPTION:🎊🚨RELEASE PARTY🚨🎉 We have a big release party coming at you😎. This brew is a specialty\, one off beer made for a competition\, but we wanted to give it a limited release in our taprooms! Made with some unique hop varieties of Riwaka\, Strata and Cashmere; it is sure to give you a memorable drinking experience. Join us Friday February 9th to taste this bad boy\, enjoy tunes curated by @dj_berazz \, and come see what some of Reno’s finest local vendors have to offer! \n• \n🍻Riwaka Flocka Flame🔥 \nDouble IPA – ABV: 9.0% \nHops: Riwaka\, Strata\, Cashmere \nAvailable in a very limited can and draft run
URL:https://leaddogbrewing.com/event/riwaka-flocka-flame-release-party/
LOCATION:Downtown Taproom\, 415 E 4th Street\, Reno\, NV\, 89512\, United States
ATTACH;FMTTYPE=image/jpeg:https://leaddogbrewing.com/wp-content/uploads/2024/01/riwakaflyer_EXPORT-scaled.jpg
END:VEVENT
BEGIN:VEVENT
DTSTART;TZID=America/Los_Angeles:20240209T173000
DTEND;TZID=America/Los_Angeles:20240209T203000
DTSTAMP:20260423T211119
CREATED:20240126T194506Z
LAST-MODIFIED:20240126T194506Z
UID:10000955-1707499800-1707510600@leaddogbrewing.com
SUMMARY:Big Blue Q Food Truck @ Reno Taproom
DESCRIPTION:Craft BBQ • Fine Cuisine • Rotating Menu
URL:https://leaddogbrewing.com/event/big-blue-q-food-truck-reno-taproom-7/
LOCATION:Downtown Taproom\, 415 E 4th Street\, Reno\, NV\, 89512\, United States
ATTACH;FMTTYPE=image/webp:https://leaddogbrewing.com/wp-content/uploads/2024/01/bigblueq.webp
END:VEVENT
END:VCALENDAR