BEGIN:VCALENDAR
VERSION:2.0
PRODID:-//Lead Dog Brewing - ECPv6.0.6.1//NONSGML v1.0//EN
CALSCALE:GREGORIAN
METHOD:PUBLISH
X-WR-CALNAME:Lead Dog Brewing
X-ORIGINAL-URL:https://leaddogbrewing.com
X-WR-CALDESC:Events for Lead Dog Brewing
REFRESH-INTERVAL;VALUE=DURATION:PT1H
X-Robots-Tag:noindex
X-PUBLISHED-TTL:PT1H
BEGIN:VTIMEZONE
TZID:America/Los_Angeles
BEGIN:DAYLIGHT
TZOFFSETFROM:-0800
TZOFFSETTO:-0700
TZNAME:PDT
DTSTART:20240310T100000
END:DAYLIGHT
BEGIN:STANDARD
TZOFFSETFROM:-0700
TZOFFSETTO:-0800
TZNAME:PST
DTSTART:20241103T090000
END:STANDARD
END:VTIMEZONE
BEGIN:VEVENT
DTSTART;TZID=America/Los_Angeles:20240210T160000
DTEND;TZID=America/Los_Angeles:20240210T230000
DTSTAMP:20260423T193807
CREATED:20240118T213554Z
LAST-MODIFIED:20240118T213554Z
UID:10000941-1707580800-1707606000@leaddogbrewing.com
SUMMARY:Heart Beat of Reno: Valentine's Block Party
DESCRIPTION:Saturday February 10th we are apart of the ❤️Heart Beat of Reno Valentine’s Block Party! There will be multiple local\, vinyl DJ’s🎧\, eight local vendors🎨\, and a photobooth📸 to commemorate the night. Join us from 4PM-11PM and support some of Reno’s finest! This event ranges across five locations in the Brewery District with art\, DJ’s\, and interactive activities at each venue. @deadrinnger_reno @abbyshighway40 @thejessereno @blackrabbitmeads @biggestlittletribe \n• Festival drink special: $1 off well drinks and Biggest Little Blonde pints No wristband will be required for our event. \n• DJs: @djmicahj @_edwardn_ @markstevensexton @sumtn_terrible Artists: @mariellemakesthings @ironhead.art @the.fae.oddities @laurafinocchiarostudios @tuffpeach @ihrtd @femmefloradesign @nickielrobinson
URL:https://leaddogbrewing.com/event/heart-beat-of-reno-valentines-block-party/
LOCATION:Downtown Taproom\, 415 E 4th Street\, Reno\, NV\, 89512\, United States
ATTACH;FMTTYPE=image/jpeg:https://leaddogbrewing.com/wp-content/uploads/2024/01/Main-Flier-IG-Square-scaled.jpg
END:VEVENT
BEGIN:VEVENT
DTSTART;TZID=America/Los_Angeles:20240210T173000
DTEND;TZID=America/Los_Angeles:20240210T203000
DTSTAMP:20260423T193807
CREATED:20240126T194523Z
LAST-MODIFIED:20240126T194523Z
UID:10000956-1707586200-1707597000@leaddogbrewing.com
SUMMARY:Big Blue Q Food Truck @ Reno Taproom
DESCRIPTION:Craft BBQ • Fine Cuisine • Rotating Menu
URL:https://leaddogbrewing.com/event/big-blue-q-food-truck-reno-taproom-8/
LOCATION:Downtown Taproom\, 415 E 4th Street\, Reno\, NV\, 89512\, United States
ATTACH;FMTTYPE=image/webp:https://leaddogbrewing.com/wp-content/uploads/2024/01/bigblueq.webp
END:VEVENT
END:VCALENDAR