BEGIN:VCALENDAR
VERSION:2.0
PRODID:-//Lead Dog Brewing - ECPv6.0.6.1//NONSGML v1.0//EN
CALSCALE:GREGORIAN
METHOD:PUBLISH
X-ORIGINAL-URL:https://leaddogbrewing.com
X-WR-CALDESC:Events for Lead Dog Brewing
REFRESH-INTERVAL;VALUE=DURATION:PT1H
X-Robots-Tag:noindex
X-PUBLISHED-TTL:PT1H
BEGIN:VTIMEZONE
TZID:America/Los_Angeles
BEGIN:DAYLIGHT
TZOFFSETFROM:-0800
TZOFFSETTO:-0700
TZNAME:PDT
DTSTART:20240310T100000
END:DAYLIGHT
BEGIN:STANDARD
TZOFFSETFROM:-0700
TZOFFSETTO:-0800
TZNAME:PST
DTSTART:20241103T090000
END:STANDARD
END:VTIMEZONE
BEGIN:VEVENT
DTSTART;TZID=America/Los_Angeles:20240218T130000
DTEND;TZID=America/Los_Angeles:20240218T160000
DTSTAMP:20260423T212150
CREATED:20240124T183343Z
LAST-MODIFIED:20240124T183343Z
UID:10000945-1708261200-1708272000@leaddogbrewing.com
SUMMARY:February Drag Brunch with the Twampsons
DESCRIPTION:Sunday\, February 18th\, join us at LEAD DOG BREWING for a fun filled Drag Brunch With The Twampsons! \nOffering you delicious drinks\, bottomless mimosas\, mouth watering food\, cabaret style performances\, sinfully sweet prizes sponsored by some of Reno’s favorite local businesses\, sexy fun drag queens\, and so much more! \nTicket Information and Add-Ons:\nGeneral Admission $20 – Access to the brunch/show and 1 free entry into the prize raffle! \nVIP Admission $30 – Access to the brunch/show\, the BEST seats in the house with a special VIP server\, and 3 total entries into the prize raffle! (Limited Quantities available) \n***For General Admission – For parties of 4 or more\, please buy your tickets under one purchase when possible to ensure you’re sat at the same table. \n***Food and Drinks sold separately! \nDoors open at 12:00pm and the show starts at 1:00pm | Event is 21+
URL:https://leaddogbrewing.com/event/february-drag-brunch-with-the-twampsons/
LOCATION:Downtown Taproom\, 415 E 4th Street\, Reno\, NV\, 89512\, United States
ATTACH;FMTTYPE=image/png:https://leaddogbrewing.com/wp-content/uploads/2024/01/LD-Feb-2024-Brunch-Flyer-1.png
END:VEVENT
BEGIN:VEVENT
DTSTART;TZID=America/Los_Angeles:20240218T173000
DTEND;TZID=America/Los_Angeles:20240218T203000
DTSTAMP:20260423T212150
CREATED:20240201T185500Z
LAST-MODIFIED:20240201T185500Z
UID:10000960-1708277400-1708288200@leaddogbrewing.com
SUMMARY:Daddy's Tacos Food Truck @ Reno Taproom
DESCRIPTION:Just a foodie who got bored and decided to open a food truck/restaurant\n🌮 Tacos\, fries\, y mas!\nCelebrating authentic recipes straight from México DF🇲🇽
URL:https://leaddogbrewing.com/event/daddys-tacos-food-truck-reno-taproom-4/
LOCATION:Downtown Taproom\, 415 E 4th Street\, Reno\, NV\, 89512\, United States
ATTACH;FMTTYPE=image/png:https://leaddogbrewing.com/wp-content/uploads/2024/01/Screenshot-2024-01-23-at-11.02.58 AM.png
END:VEVENT
END:VCALENDAR