BEGIN:VCALENDAR
VERSION:2.0
PRODID:-//Lead Dog Brewing - ECPv6.0.6.1//NONSGML v1.0//EN
CALSCALE:GREGORIAN
METHOD:PUBLISH
X-WR-CALNAME:Lead Dog Brewing
X-ORIGINAL-URL:https://leaddogbrewing.com
X-WR-CALDESC:Events for Lead Dog Brewing
REFRESH-INTERVAL;VALUE=DURATION:PT1H
X-Robots-Tag:noindex
X-PUBLISHED-TTL:PT1H
BEGIN:VTIMEZONE
TZID:America/Los_Angeles
BEGIN:DAYLIGHT
TZOFFSETFROM:-0800
TZOFFSETTO:-0700
TZNAME:PDT
DTSTART:20240310T100000
END:DAYLIGHT
BEGIN:STANDARD
TZOFFSETFROM:-0700
TZOFFSETTO:-0800
TZNAME:PST
DTSTART:20241103T090000
END:STANDARD
END:VTIMEZONE
BEGIN:VEVENT
DTSTART;TZID=America/Los_Angeles:20240308T200000
DTEND;TZID=America/Los_Angeles:20240308T230000
DTSTAMP:20260423T173528
CREATED:20240214T195212Z
LAST-MODIFIED:20240214T195212Z
UID:10000974-1709928000-1709938800@leaddogbrewing.com
SUMMARY:Iron Snake 80s Cover Band
DESCRIPTION:Iron Snake’s Mission: \nCreating a nostalgic atmosphere\, IRON SNAKE plays iconic hits from the 80s by bands like Guns n Roses \, Van Halen\, Bon Jovi\, Motley Crue and many others.    The band’s ability to capture the essence of the original songs while adding their own twist and high energy gives the audience an unforgettable concert experience!
URL:https://leaddogbrewing.com/event/iron-snake-80s-cover-band/
LOCATION:Downtown Taproom\, 415 E 4th Street\, Reno\, NV\, 89512\, United States
ATTACH;FMTTYPE=image/webp:https://leaddogbrewing.com/wp-content/uploads/2024/02/iron_snake.webp
END:VEVENT
END:VCALENDAR