BEGIN:VCALENDAR
VERSION:2.0
PRODID:-//Lead Dog Brewing - ECPv6.0.6.1//NONSGML v1.0//EN
CALSCALE:GREGORIAN
METHOD:PUBLISH
X-WR-CALNAME:Lead Dog Brewing
X-ORIGINAL-URL:https://leaddogbrewing.com
X-WR-CALDESC:Events for Lead Dog Brewing
REFRESH-INTERVAL;VALUE=DURATION:PT1H
X-Robots-Tag:noindex
X-PUBLISHED-TTL:PT1H
BEGIN:VTIMEZONE
TZID:America/Los_Angeles
BEGIN:DAYLIGHT
TZOFFSETFROM:-0800
TZOFFSETTO:-0700
TZNAME:PDT
DTSTART:20240310T100000
END:DAYLIGHT
BEGIN:STANDARD
TZOFFSETFROM:-0700
TZOFFSETTO:-0800
TZNAME:PST
DTSTART:20241103T090000
END:STANDARD
END:VTIMEZONE
BEGIN:VEVENT
DTSTART;TZID=America/Los_Angeles:20240310T160000
DTEND;TZID=America/Los_Angeles:20240310T190000
DTSTAMP:20260423T173645
CREATED:20240214T202455Z
LAST-MODIFIED:20240221T215153Z
UID:10000975-1710086400-1710097200@leaddogbrewing.com
SUMMARY:96th Academy Awards Watch Party
DESCRIPTION:Join us Sunday March 10th for our Academy Awards watch party! There will be drink specials\, food from Big Blue Q of Tahoe food truck and of course the best beer in town!
URL:https://leaddogbrewing.com/event/96th-academy-awards-watch-party/
LOCATION:Downtown Taproom\, 415 E 4th Street\, Reno\, NV\, 89512\, United States
ATTACH;FMTTYPE=image/webp:https://leaddogbrewing.com/wp-content/uploads/2024/02/OSCARS96_STATUETTE_TEASER_4000X2250_R04_FIN01.webp
END:VEVENT
END:VCALENDAR