BEGIN:VCALENDAR
VERSION:2.0
PRODID:-//Lead Dog Brewing - ECPv6.0.6.1//NONSGML v1.0//EN
CALSCALE:GREGORIAN
METHOD:PUBLISH
X-ORIGINAL-URL:https://leaddogbrewing.com
X-WR-CALDESC:Events for Lead Dog Brewing
REFRESH-INTERVAL;VALUE=DURATION:PT1H
X-Robots-Tag:noindex
X-PUBLISHED-TTL:PT1H
BEGIN:VTIMEZONE
TZID:America/Los_Angeles
BEGIN:DAYLIGHT
TZOFFSETFROM:-0800
TZOFFSETTO:-0700
TZNAME:PDT
DTSTART:20230312T100000
END:DAYLIGHT
BEGIN:STANDARD
TZOFFSETFROM:-0700
TZOFFSETTO:-0800
TZNAME:PST
DTSTART:20231105T090000
END:STANDARD
END:VTIMEZONE
BEGIN:VEVENT
DTSTART;TZID=America/Los_Angeles:20230206T190000
DTEND;TZID=America/Los_Angeles:20230206T210000
DTSTAMP:20260424T165017
CREATED:20221214T205945Z
LAST-MODIFIED:20230201T225328Z
UID:10000014-1675710000-1675717200@leaddogbrewing.com
SUMMARY:DJ-Trivia
DESCRIPTION:Vibes\, music\, beer\, & cocktails. Featuring: Dirty Laundry\, Gina Rose Waller\, & Josiah Knight \n 
URL:https://leaddogbrewing.com/event/dj-trivia/2023-02-06/
LOCATION:Downtown Taproom\, 415 E 4th Street\, Reno\, NV\, 89512\, United States
ATTACH;FMTTYPE=image/jpeg:https://leaddogbrewing.com/wp-content/uploads/2022/12/LD_TriviaNight_Template.jpg
END:VEVENT
BEGIN:VEVENT
DTSTART;TZID=America/Los_Angeles:20230211T170000
DTEND;TZID=America/Los_Angeles:20230211T200000
DTSTAMP:20260424T165017
CREATED:20230126T220541Z
LAST-MODIFIED:20230126T220730Z
UID:10000273-1676134800-1676145600@leaddogbrewing.com
SUMMARY:Heart Beat of Reno: Valentine's Block Party
DESCRIPTION:This Valentines Day weekend we are participating in a 4th street block party! This will involve us\, Black Rabbit Meads\, Abbey 40 Highway bar and the after party at Deadringer across the street from us. Tickets available on eventbrite.com! •🎉The party is located at our DOWNTOWN RENO location(415 E 4th street). Must be 21+ to attend. \n 
URL:https://leaddogbrewing.com/event/valentines-block-party/
LOCATION:Downtown Taproom\, 415 E 4th Street\, Reno\, NV\, 89512\, United States
ATTACH;FMTTYPE=image/jpeg:https://leaddogbrewing.com/wp-content/uploads/2023/01/valentines-day-party.jpg
END:VEVENT
BEGIN:VEVENT
DTSTART;TZID=America/Los_Angeles:20230213T190000
DTEND;TZID=America/Los_Angeles:20230213T210000
DTSTAMP:20260424T165017
CREATED:20221214T205945Z
LAST-MODIFIED:20230201T225328Z
UID:10000015-1676314800-1676322000@leaddogbrewing.com
SUMMARY:DJ-Trivia
DESCRIPTION:Vibes\, music\, beer\, & cocktails. Featuring: Dirty Laundry\, Gina Rose Waller\, & Josiah Knight \n 
URL:https://leaddogbrewing.com/event/dj-trivia/2023-02-13/
LOCATION:Downtown Taproom\, 415 E 4th Street\, Reno\, NV\, 89512\, United States
ATTACH;FMTTYPE=image/jpeg:https://leaddogbrewing.com/wp-content/uploads/2022/12/LD_TriviaNight_Template.jpg
END:VEVENT
BEGIN:VEVENT
DTSTART;TZID=America/Los_Angeles:20230220T190000
DTEND;TZID=America/Los_Angeles:20230220T210000
DTSTAMP:20260424T165017
CREATED:20221214T205945Z
LAST-MODIFIED:20230201T225328Z
UID:10000016-1676919600-1676926800@leaddogbrewing.com
SUMMARY:DJ-Trivia
DESCRIPTION:Vibes\, music\, beer\, & cocktails. Featuring: Dirty Laundry\, Gina Rose Waller\, & Josiah Knight \n 
URL:https://leaddogbrewing.com/event/dj-trivia/2023-02-20/
LOCATION:Downtown Taproom\, 415 E 4th Street\, Reno\, NV\, 89512\, United States
ATTACH;FMTTYPE=image/jpeg:https://leaddogbrewing.com/wp-content/uploads/2022/12/LD_TriviaNight_Template.jpg
END:VEVENT
BEGIN:VEVENT
DTSTART;TZID=America/Los_Angeles:20230227T190000
DTEND;TZID=America/Los_Angeles:20230227T210000
DTSTAMP:20260424T165017
CREATED:20221214T205945Z
LAST-MODIFIED:20230201T225328Z
UID:10000017-1677524400-1677531600@leaddogbrewing.com
SUMMARY:DJ-Trivia
DESCRIPTION:Vibes\, music\, beer\, & cocktails. Featuring: Dirty Laundry\, Gina Rose Waller\, & Josiah Knight \n 
URL:https://leaddogbrewing.com/event/dj-trivia/2023-02-27/
LOCATION:Downtown Taproom\, 415 E 4th Street\, Reno\, NV\, 89512\, United States
ATTACH;FMTTYPE=image/jpeg:https://leaddogbrewing.com/wp-content/uploads/2022/12/LD_TriviaNight_Template.jpg
END:VEVENT
END:VCALENDAR