BEGIN:VCALENDAR
VERSION:2.0
PRODID:-//Lead Dog Brewing - ECPv6.0.6.1//NONSGML v1.0//EN
CALSCALE:GREGORIAN
METHOD:PUBLISH
X-WR-CALNAME:Lead Dog Brewing
X-ORIGINAL-URL:https://leaddogbrewing.com
X-WR-CALDESC:Events for Lead Dog Brewing
REFRESH-INTERVAL;VALUE=DURATION:PT1H
X-Robots-Tag:noindex
X-PUBLISHED-TTL:PT1H
BEGIN:VTIMEZONE
TZID:America/Los_Angeles
BEGIN:DAYLIGHT
TZOFFSETFROM:-0800
TZOFFSETTO:-0700
TZNAME:PDT
DTSTART:20230312T100000
END:DAYLIGHT
BEGIN:STANDARD
TZOFFSETFROM:-0700
TZOFFSETTO:-0800
TZNAME:PST
DTSTART:20231105T090000
END:STANDARD
END:VTIMEZONE
BEGIN:VEVENT
DTSTART;TZID=America/Los_Angeles:20230403T190000
DTEND;TZID=America/Los_Angeles:20230403T210000
DTSTAMP:20260424T132003
CREATED:20221214T205945Z
LAST-MODIFIED:20230201T225328Z
UID:10000022-1680548400-1680555600@leaddogbrewing.com
SUMMARY:DJ-Trivia
DESCRIPTION:Vibes\, music\, beer\, & cocktails. Featuring: Dirty Laundry\, Gina Rose Waller\, & Josiah Knight \n 
URL:https://leaddogbrewing.com/event/dj-trivia/2023-04-03/
LOCATION:Downtown Taproom\, 415 E 4th Street\, Reno\, NV\, 89512\, United States
ATTACH;FMTTYPE=image/jpeg:https://leaddogbrewing.com/wp-content/uploads/2022/12/LD_TriviaNight_Template.jpg
END:VEVENT
BEGIN:VEVENT
DTSTART;TZID=America/Los_Angeles:20230410T190000
DTEND;TZID=America/Los_Angeles:20230410T210000
DTSTAMP:20260424T132003
CREATED:20221214T205945Z
LAST-MODIFIED:20230201T225328Z
UID:10000023-1681153200-1681160400@leaddogbrewing.com
SUMMARY:DJ-Trivia
DESCRIPTION:Vibes\, music\, beer\, & cocktails. Featuring: Dirty Laundry\, Gina Rose Waller\, & Josiah Knight \n 
URL:https://leaddogbrewing.com/event/dj-trivia/2023-04-10/
LOCATION:Downtown Taproom\, 415 E 4th Street\, Reno\, NV\, 89512\, United States
ATTACH;FMTTYPE=image/jpeg:https://leaddogbrewing.com/wp-content/uploads/2022/12/LD_TriviaNight_Template.jpg
END:VEVENT
BEGIN:VEVENT
DTSTART;TZID=America/Los_Angeles:20230417T190000
DTEND;TZID=America/Los_Angeles:20230417T210000
DTSTAMP:20260424T132003
CREATED:20221214T205945Z
LAST-MODIFIED:20230201T225328Z
UID:10000024-1681758000-1681765200@leaddogbrewing.com
SUMMARY:DJ-Trivia
DESCRIPTION:Vibes\, music\, beer\, & cocktails. Featuring: Dirty Laundry\, Gina Rose Waller\, & Josiah Knight \n 
URL:https://leaddogbrewing.com/event/dj-trivia/2023-04-17/
LOCATION:Downtown Taproom\, 415 E 4th Street\, Reno\, NV\, 89512\, United States
ATTACH;FMTTYPE=image/jpeg:https://leaddogbrewing.com/wp-content/uploads/2022/12/LD_TriviaNight_Template.jpg
END:VEVENT
BEGIN:VEVENT
DTSTART;TZID=America/Los_Angeles:20230424T190000
DTEND;TZID=America/Los_Angeles:20230424T210000
DTSTAMP:20260424T132003
CREATED:20221214T205945Z
LAST-MODIFIED:20230201T225328Z
UID:10000025-1682362800-1682370000@leaddogbrewing.com
SUMMARY:DJ-Trivia
DESCRIPTION:Vibes\, music\, beer\, & cocktails. Featuring: Dirty Laundry\, Gina Rose Waller\, & Josiah Knight \n 
URL:https://leaddogbrewing.com/event/dj-trivia/2023-04-24/
LOCATION:Downtown Taproom\, 415 E 4th Street\, Reno\, NV\, 89512\, United States
ATTACH;FMTTYPE=image/jpeg:https://leaddogbrewing.com/wp-content/uploads/2022/12/LD_TriviaNight_Template.jpg
END:VEVENT
BEGIN:VEVENT
DTSTART;TZID=America/Los_Angeles:20230426T180000
DTEND;TZID=America/Los_Angeles:20230426T200000
DTSTAMP:20260424T132003
CREATED:20230227T202417Z
LAST-MODIFIED:20230227T202417Z
UID:10000806-1682532000-1682539200@leaddogbrewing.com
SUMMARY:Paint and Sip Downtown Reno Taproom
DESCRIPTION:Join us for our second Paint and Sip event! This will be held on April 26th 6pm-8pm at our Reno Taproom. Join us to paint an amazing American Farm scene with your significant other or a group of friends! Click the “info” button to secure your tickets now.  \n– \nIf you purchase before 4/12 use code: LDS31323 for $5 off!
URL:https://leaddogbrewing.com/event/paint-and-sip-downtown-reno-taproom/
LOCATION:Downtown Taproom\, 415 E 4th Street\, Reno\, NV\, 89512\, United States
ATTACH;FMTTYPE=image/png:https://leaddogbrewing.com/wp-content/uploads/2023/02/LDR-April-Barn-IG.png
END:VEVENT
END:VCALENDAR