BEGIN:VCALENDAR
VERSION:2.0
PRODID:-//Lead Dog Brewing - ECPv6.0.6.1//NONSGML v1.0//EN
CALSCALE:GREGORIAN
METHOD:PUBLISH
X-ORIGINAL-URL:https://leaddogbrewing.com
X-WR-CALDESC:Events for Lead Dog Brewing
REFRESH-INTERVAL;VALUE=DURATION:PT1H
X-Robots-Tag:noindex
X-PUBLISHED-TTL:PT1H
BEGIN:VTIMEZONE
TZID:America/Los_Angeles
BEGIN:DAYLIGHT
TZOFFSETFROM:-0800
TZOFFSETTO:-0700
TZNAME:PDT
DTSTART:20230312T100000
END:DAYLIGHT
BEGIN:STANDARD
TZOFFSETFROM:-0700
TZOFFSETTO:-0800
TZNAME:PST
DTSTART:20231105T090000
END:STANDARD
END:VTIMEZONE
BEGIN:VEVENT
DTSTART;TZID=America/Los_Angeles:20230603T150000
DTEND;TZID=America/Los_Angeles:20230603T180000
DTSTAMP:20260424T074130
CREATED:20230522T202443Z
LAST-MODIFIED:20230522T202443Z
UID:10000809-1685804400-1685815200@leaddogbrewing.com
SUMMARY:Nevada Humane Society Adoption Event
DESCRIPTION:On Saturday June 3rd we will be joined by a bunch of furry friends from the Humane society! We will have cats and dogs up for adoption. Anyone who adopts a dog will receive a complimentary dog collar\, leash and also a free pint!  All the animals will be with us from 3pm-6pm but the support for the Humane society will be happening all day long. 50% of the tips from the bartenders will be going to the Humane Society. Also any type of purchase of our Island Oasis Sour (four-pack\, 5oz\, 10oz\, 16oz)\, $1 will be going back to the Humane Society. \nJoin us for cute animals\, great beer and even better fun!
URL:https://leaddogbrewing.com/event/nevada-humane-society-adoption-event/
LOCATION:Downtown Taproom\, 415 E 4th Street\, Reno\, NV\, 89512\, United States
ATTACH;FMTTYPE=image/jpeg:https://leaddogbrewing.com/wp-content/uploads/2023/05/AdoptionEvent_June_HumaneSociety-02.jpg
END:VEVENT
BEGIN:VEVENT
DTSTART;TZID=America/Los_Angeles:20230605T190000
DTEND;TZID=America/Los_Angeles:20230605T210000
DTSTAMP:20260424T074130
CREATED:20221214T205945Z
LAST-MODIFIED:20230201T225328Z
UID:10000031-1685991600-1685998800@leaddogbrewing.com
SUMMARY:DJ-Trivia
DESCRIPTION:Vibes\, music\, beer\, & cocktails. Featuring: Dirty Laundry\, Gina Rose Waller\, & Josiah Knight \n 
URL:https://leaddogbrewing.com/event/dj-trivia/2023-06-05/
LOCATION:Downtown Taproom\, 415 E 4th Street\, Reno\, NV\, 89512\, United States
ATTACH;FMTTYPE=image/jpeg:https://leaddogbrewing.com/wp-content/uploads/2022/12/LD_TriviaNight_Template.jpg
END:VEVENT
BEGIN:VEVENT
DTSTART;TZID=America/Los_Angeles:20230611T120000
DTEND;TZID=America/Los_Angeles:20230611T160000
DTSTAMP:20260424T074130
CREATED:20230602T175414Z
LAST-MODIFIED:20230602T180447Z
UID:10000810-1686484800-1686499200@leaddogbrewing.com
SUMMARY:Lead Dog Presents: Beers and "Babes?" Drag Show
DESCRIPTION:On Sunday\, June 11th\, come experience a one-of-a-kind Drag Brunch in the heart of Downtown Reno! Featuring bottomless mimosas\, delicious food\, hilarious drag queens\, dancing\, singing\, prize\, and much more! \nThis is a brunch you do NOT want to miss! This month we’re celebrating PRIDE\, so wear your rainbows\, sparkles\, and show your PRIDE to be earn extra entries into this month’s amazing raffle\, with hundreds of dollars worth of prizes. \nTickets on sale at the link. \n#hausoftwampson #drag #dragqueen #Brunch #mimosas #sundaybrunch #thingstodoinreno #Reno #Nevada #DragShow #Comedy #dancing #entertainment #fundaysunday #PRIDE #LeadDogBrewery
URL:https://leaddogbrewing.com/event/lead-dog-presents-beers-and-babes-drag-show-2/
LOCATION:Downtown Taproom\, 415 E 4th Street\, Reno\, NV\, 89512\, United States
ATTACH;FMTTYPE=image/jpeg:https://leaddogbrewing.com/wp-content/uploads/2023/06/June-LD-Brunch.jpg
END:VEVENT
BEGIN:VEVENT
DTSTART;TZID=America/Los_Angeles:20230612T190000
DTEND;TZID=America/Los_Angeles:20230612T210000
DTSTAMP:20260424T074130
CREATED:20221214T205945Z
LAST-MODIFIED:20230201T225328Z
UID:10000032-1686596400-1686603600@leaddogbrewing.com
SUMMARY:DJ-Trivia
DESCRIPTION:Vibes\, music\, beer\, & cocktails. Featuring: Dirty Laundry\, Gina Rose Waller\, & Josiah Knight \n 
URL:https://leaddogbrewing.com/event/dj-trivia/2023-06-12/
LOCATION:Downtown Taproom\, 415 E 4th Street\, Reno\, NV\, 89512\, United States
ATTACH;FMTTYPE=image/jpeg:https://leaddogbrewing.com/wp-content/uploads/2022/12/LD_TriviaNight_Template.jpg
END:VEVENT
BEGIN:VEVENT
DTSTART;TZID=America/Los_Angeles:20230619T190000
DTEND;TZID=America/Los_Angeles:20230619T210000
DTSTAMP:20260424T074130
CREATED:20221214T205945Z
LAST-MODIFIED:20230201T225328Z
UID:10000033-1687201200-1687208400@leaddogbrewing.com
SUMMARY:DJ-Trivia
DESCRIPTION:Vibes\, music\, beer\, & cocktails. Featuring: Dirty Laundry\, Gina Rose Waller\, & Josiah Knight \n 
URL:https://leaddogbrewing.com/event/dj-trivia/2023-06-19/
LOCATION:Downtown Taproom\, 415 E 4th Street\, Reno\, NV\, 89512\, United States
ATTACH;FMTTYPE=image/jpeg:https://leaddogbrewing.com/wp-content/uploads/2022/12/LD_TriviaNight_Template.jpg
END:VEVENT
BEGIN:VEVENT
DTSTART;TZID=America/Los_Angeles:20230626T190000
DTEND;TZID=America/Los_Angeles:20230626T210000
DTSTAMP:20260424T074130
CREATED:20221214T205945Z
LAST-MODIFIED:20230201T225328Z
UID:10000034-1687806000-1687813200@leaddogbrewing.com
SUMMARY:DJ-Trivia
DESCRIPTION:Vibes\, music\, beer\, & cocktails. Featuring: Dirty Laundry\, Gina Rose Waller\, & Josiah Knight \n 
URL:https://leaddogbrewing.com/event/dj-trivia/2023-06-26/
LOCATION:Downtown Taproom\, 415 E 4th Street\, Reno\, NV\, 89512\, United States
ATTACH;FMTTYPE=image/jpeg:https://leaddogbrewing.com/wp-content/uploads/2022/12/LD_TriviaNight_Template.jpg
END:VEVENT
END:VCALENDAR