BEGIN:VCALENDAR
VERSION:2.0
PRODID:-//Lead Dog Brewing - ECPv6.0.6.1//NONSGML v1.0//EN
CALSCALE:GREGORIAN
METHOD:PUBLISH
X-ORIGINAL-URL:https://leaddogbrewing.com
X-WR-CALDESC:Events for Lead Dog Brewing
REFRESH-INTERVAL;VALUE=DURATION:PT1H
X-Robots-Tag:noindex
X-PUBLISHED-TTL:PT1H
BEGIN:VTIMEZONE
TZID:America/Los_Angeles
BEGIN:DAYLIGHT
TZOFFSETFROM:-0800
TZOFFSETTO:-0700
TZNAME:PDT
DTSTART:20230312T100000
END:DAYLIGHT
BEGIN:STANDARD
TZOFFSETFROM:-0700
TZOFFSETTO:-0800
TZNAME:PST
DTSTART:20231105T090000
END:STANDARD
END:VTIMEZONE
BEGIN:VEVENT
DTSTART;TZID=America/Los_Angeles:20230904T190000
DTEND;TZID=America/Los_Angeles:20230904T210000
DTSTAMP:20260424T023016
CREATED:20230731T215936Z
LAST-MODIFIED:20230731T220003Z
UID:10000044-1693854000-1693861200@leaddogbrewing.com
SUMMARY:DJ-Trivia
DESCRIPTION:Vibes\, music\, beer\, & cocktails. Featuring: Dirty Laundry\, Gina Rose Waller\, & Josiah Knight \n 
URL:https://leaddogbrewing.com/event/dj-trivia-2/2023-09-04/
LOCATION:Downtown Taproom\, 415 E 4th Street\, Reno\, NV\, 89512\, United States
ATTACH;FMTTYPE=image/jpeg:https://leaddogbrewing.com/wp-content/uploads/2022/12/LD_TriviaNight_UPDATE-1-scaled.jpg
END:VEVENT
BEGIN:VEVENT
DTSTART;TZID=America/Los_Angeles:20230907T190000
DTEND;TZID=America/Los_Angeles:20230907T210000
DTSTAMP:20260424T023016
CREATED:20230731T215936Z
LAST-MODIFIED:20230731T220003Z
UID:10000818-1694113200-1694120400@leaddogbrewing.com
SUMMARY:DJ-Trivia
DESCRIPTION:Vibes\, music\, beer\, & cocktails. Featuring: Dirty Laundry\, Gina Rose Waller\, & Josiah Knight \n 
URL:https://leaddogbrewing.com/event/dj-trivia-2/2023-09-07/
LOCATION:Downtown Taproom\, 415 E 4th Street\, Reno\, NV\, 89512\, United States
ATTACH;FMTTYPE=image/jpeg:https://leaddogbrewing.com/wp-content/uploads/2022/12/LD_TriviaNight_UPDATE-1-scaled.jpg
END:VEVENT
BEGIN:VEVENT
DTSTART;TZID=America/Los_Angeles:20230911T190000
DTEND;TZID=America/Los_Angeles:20230911T210000
DTSTAMP:20260424T023016
CREATED:20230731T215936Z
LAST-MODIFIED:20230731T220003Z
UID:10000045-1694458800-1694466000@leaddogbrewing.com
SUMMARY:DJ-Trivia
DESCRIPTION:Vibes\, music\, beer\, & cocktails. Featuring: Dirty Laundry\, Gina Rose Waller\, & Josiah Knight \n 
URL:https://leaddogbrewing.com/event/dj-trivia-2/2023-09-11/
LOCATION:Downtown Taproom\, 415 E 4th Street\, Reno\, NV\, 89512\, United States
ATTACH;FMTTYPE=image/jpeg:https://leaddogbrewing.com/wp-content/uploads/2022/12/LD_TriviaNight_UPDATE-1-scaled.jpg
END:VEVENT
BEGIN:VEVENT
DTSTART;TZID=America/Los_Angeles:20230914T190000
DTEND;TZID=America/Los_Angeles:20230914T210000
DTSTAMP:20260424T023016
CREATED:20230731T215936Z
LAST-MODIFIED:20230731T220003Z
UID:10000819-1694718000-1694725200@leaddogbrewing.com
SUMMARY:DJ-Trivia
DESCRIPTION:Vibes\, music\, beer\, & cocktails. Featuring: Dirty Laundry\, Gina Rose Waller\, & Josiah Knight \n 
URL:https://leaddogbrewing.com/event/dj-trivia-2/2023-09-14/
LOCATION:Downtown Taproom\, 415 E 4th Street\, Reno\, NV\, 89512\, United States
ATTACH;FMTTYPE=image/jpeg:https://leaddogbrewing.com/wp-content/uploads/2022/12/LD_TriviaNight_UPDATE-1-scaled.jpg
END:VEVENT
BEGIN:VEVENT
DTSTART;TZID=America/Los_Angeles:20230917T130000
DTEND;TZID=America/Los_Angeles:20230917T160000
DTSTAMP:20260424T023016
CREATED:20230907T192224Z
LAST-MODIFIED:20230907T192224Z
UID:10000931-1694955600-1694966400@leaddogbrewing.com
SUMMARY:Drag Brunch with the Twampsons
DESCRIPTION:You’re in for a fabulous time!\nSunday\, September 17th\, join us at LEAD DOG BREWING for a Sunday-Funday drag brunch you’ll never forget! \nDrag Brunch With The Twampsons offers you delicious food and drinks\, bottomless mimosas\, cabaret style performances\, games\, sinfully sweet prizes\, drag queens\, and so much MORE! \nThese tickets go fast\, so get yours today! \nDoors will open at 12:00pm and the show starts at 1:00pm | Event is 21+ \nTicket Information and Add-Ons:\nGeneral Admission $20 – Access to the brunch/show and 1 free entry into the prize raffle! \nVIP Admission $25 – Access to the brunch/show\, the BEST seats in the house\, and 3 total entries into the prize raffle! (Limited Quantities available) \n***For General Admission – seating is on a first come\, first serve basis. For parties of 4 or more\, tables may be reserved\, but you must contact the organizers and they will do their best to accommodate! \n***Food and Drinks sold separately!
URL:https://leaddogbrewing.com/event/drag-brunch-with-the-twampsons/
LOCATION:Downtown Taproom\, 415 E 4th Street\, Reno\, NV\, 89512\, United States
ATTACH;FMTTYPE=image/png:https://leaddogbrewing.com/wp-content/uploads/2023/09/Lead-Dog-Flyer-2.0-2.png
END:VEVENT
BEGIN:VEVENT
DTSTART;TZID=America/Los_Angeles:20230918T190000
DTEND;TZID=America/Los_Angeles:20230918T210000
DTSTAMP:20260424T023016
CREATED:20230731T215936Z
LAST-MODIFIED:20230731T220003Z
UID:10000046-1695063600-1695070800@leaddogbrewing.com
SUMMARY:DJ-Trivia
DESCRIPTION:Vibes\, music\, beer\, & cocktails. Featuring: Dirty Laundry\, Gina Rose Waller\, & Josiah Knight \n 
URL:https://leaddogbrewing.com/event/dj-trivia-2/2023-09-18/
LOCATION:Downtown Taproom\, 415 E 4th Street\, Reno\, NV\, 89512\, United States
ATTACH;FMTTYPE=image/jpeg:https://leaddogbrewing.com/wp-content/uploads/2022/12/LD_TriviaNight_UPDATE-1-scaled.jpg
END:VEVENT
BEGIN:VEVENT
DTSTART;TZID=America/Los_Angeles:20230921T190000
DTEND;TZID=America/Los_Angeles:20230921T210000
DTSTAMP:20260424T023016
CREATED:20230731T215936Z
LAST-MODIFIED:20230731T220003Z
UID:10000820-1695322800-1695330000@leaddogbrewing.com
SUMMARY:DJ-Trivia
DESCRIPTION:Vibes\, music\, beer\, & cocktails. Featuring: Dirty Laundry\, Gina Rose Waller\, & Josiah Knight \n 
URL:https://leaddogbrewing.com/event/dj-trivia-2/2023-09-21/
LOCATION:Downtown Taproom\, 415 E 4th Street\, Reno\, NV\, 89512\, United States
ATTACH;FMTTYPE=image/jpeg:https://leaddogbrewing.com/wp-content/uploads/2022/12/LD_TriviaNight_UPDATE-1-scaled.jpg
END:VEVENT
BEGIN:VEVENT
DTSTART;TZID=America/Los_Angeles:20230925T190000
DTEND;TZID=America/Los_Angeles:20230925T210000
DTSTAMP:20260424T023016
CREATED:20230731T215936Z
LAST-MODIFIED:20230731T220003Z
UID:10000047-1695668400-1695675600@leaddogbrewing.com
SUMMARY:DJ-Trivia
DESCRIPTION:Vibes\, music\, beer\, & cocktails. Featuring: Dirty Laundry\, Gina Rose Waller\, & Josiah Knight \n 
URL:https://leaddogbrewing.com/event/dj-trivia-2/2023-09-25/
LOCATION:Downtown Taproom\, 415 E 4th Street\, Reno\, NV\, 89512\, United States
ATTACH;FMTTYPE=image/jpeg:https://leaddogbrewing.com/wp-content/uploads/2022/12/LD_TriviaNight_UPDATE-1-scaled.jpg
END:VEVENT
BEGIN:VEVENT
DTSTART;TZID=America/Los_Angeles:20230928T190000
DTEND;TZID=America/Los_Angeles:20230928T210000
DTSTAMP:20260424T023016
CREATED:20230731T215936Z
LAST-MODIFIED:20230731T220003Z
UID:10000821-1695927600-1695934800@leaddogbrewing.com
SUMMARY:DJ-Trivia
DESCRIPTION:Vibes\, music\, beer\, & cocktails. Featuring: Dirty Laundry\, Gina Rose Waller\, & Josiah Knight \n 
URL:https://leaddogbrewing.com/event/dj-trivia-2/2023-09-28/
LOCATION:Downtown Taproom\, 415 E 4th Street\, Reno\, NV\, 89512\, United States
ATTACH;FMTTYPE=image/jpeg:https://leaddogbrewing.com/wp-content/uploads/2022/12/LD_TriviaNight_UPDATE-1-scaled.jpg
END:VEVENT
END:VCALENDAR