BEGIN:VCALENDAR
VERSION:2.0
PRODID:-//Lead Dog Brewing - ECPv6.0.6.1//NONSGML v1.0//EN
CALSCALE:GREGORIAN
METHOD:PUBLISH
X-ORIGINAL-URL:https://leaddogbrewing.com
X-WR-CALDESC:Events for Lead Dog Brewing
REFRESH-INTERVAL;VALUE=DURATION:PT1H
X-Robots-Tag:noindex
X-PUBLISHED-TTL:PT1H
BEGIN:VTIMEZONE
TZID:America/Los_Angeles
BEGIN:DAYLIGHT
TZOFFSETFROM:-0800
TZOFFSETTO:-0700
TZNAME:PDT
DTSTART:20230312T100000
END:DAYLIGHT
BEGIN:STANDARD
TZOFFSETFROM:-0700
TZOFFSETTO:-0800
TZNAME:PST
DTSTART:20231105T090000
END:STANDARD
END:VTIMEZONE
BEGIN:VEVENT
DTSTART;TZID=America/Los_Angeles:20231002T190000
DTEND;TZID=America/Los_Angeles:20231002T210000
DTSTAMP:20260424T005219
CREATED:20230731T215936Z
LAST-MODIFIED:20230731T220003Z
UID:10000048-1696273200-1696280400@leaddogbrewing.com
SUMMARY:DJ-Trivia
DESCRIPTION:Vibes\, music\, beer\, & cocktails. Featuring: Dirty Laundry\, Gina Rose Waller\, & Josiah Knight \n 
URL:https://leaddogbrewing.com/event/dj-trivia-2/2023-10-02/
LOCATION:Downtown Taproom\, 415 E 4th Street\, Reno\, NV\, 89512\, United States
ATTACH;FMTTYPE=image/jpeg:https://leaddogbrewing.com/wp-content/uploads/2022/12/LD_TriviaNight_UPDATE-1-scaled.jpg
END:VEVENT
BEGIN:VEVENT
DTSTART;TZID=America/Los_Angeles:20231005T190000
DTEND;TZID=America/Los_Angeles:20231005T210000
DTSTAMP:20260424T005219
CREATED:20230731T215936Z
LAST-MODIFIED:20230731T220003Z
UID:10000822-1696532400-1696539600@leaddogbrewing.com
SUMMARY:DJ-Trivia
DESCRIPTION:Vibes\, music\, beer\, & cocktails. Featuring: Dirty Laundry\, Gina Rose Waller\, & Josiah Knight \n 
URL:https://leaddogbrewing.com/event/dj-trivia-2/2023-10-05/
LOCATION:Downtown Taproom\, 415 E 4th Street\, Reno\, NV\, 89512\, United States
ATTACH;FMTTYPE=image/jpeg:https://leaddogbrewing.com/wp-content/uploads/2022/12/LD_TriviaNight_UPDATE-1-scaled.jpg
END:VEVENT
BEGIN:VEVENT
DTSTART;TZID=America/Los_Angeles:20231009T190000
DTEND;TZID=America/Los_Angeles:20231009T210000
DTSTAMP:20260424T005219
CREATED:20230731T215936Z
LAST-MODIFIED:20230731T220003Z
UID:10000049-1696878000-1696885200@leaddogbrewing.com
SUMMARY:DJ-Trivia
DESCRIPTION:Vibes\, music\, beer\, & cocktails. Featuring: Dirty Laundry\, Gina Rose Waller\, & Josiah Knight \n 
URL:https://leaddogbrewing.com/event/dj-trivia-2/2023-10-09/
LOCATION:Downtown Taproom\, 415 E 4th Street\, Reno\, NV\, 89512\, United States
ATTACH;FMTTYPE=image/jpeg:https://leaddogbrewing.com/wp-content/uploads/2022/12/LD_TriviaNight_UPDATE-1-scaled.jpg
END:VEVENT
BEGIN:VEVENT
DTSTART;TZID=America/Los_Angeles:20231012T190000
DTEND;TZID=America/Los_Angeles:20231012T210000
DTSTAMP:20260424T005219
CREATED:20230731T215936Z
LAST-MODIFIED:20230731T220003Z
UID:10000823-1697137200-1697144400@leaddogbrewing.com
SUMMARY:DJ-Trivia
DESCRIPTION:Vibes\, music\, beer\, & cocktails. Featuring: Dirty Laundry\, Gina Rose Waller\, & Josiah Knight \n 
URL:https://leaddogbrewing.com/event/dj-trivia-2/2023-10-12/
LOCATION:Downtown Taproom\, 415 E 4th Street\, Reno\, NV\, 89512\, United States
ATTACH;FMTTYPE=image/jpeg:https://leaddogbrewing.com/wp-content/uploads/2022/12/LD_TriviaNight_UPDATE-1-scaled.jpg
END:VEVENT
BEGIN:VEVENT
DTSTART;TZID=America/Los_Angeles:20231015T130000
DTEND;TZID=America/Los_Angeles:20231015T160000
DTSTAMP:20260424T005219
CREATED:20230920T202008Z
LAST-MODIFIED:20230920T204739Z
UID:10000932-1697374800-1697385600@leaddogbrewing.com
SUMMARY:Drag Brunch with the Twampsons
DESCRIPTION:You’re in for a SPOOKY time!\nSunday\, October 15th\, join us at LEAD DOG BREWING for a SPOOKY fun filled Drag Brunch With The Twampsons! \nOffering you hauntingly delicious drinks\, bottomless mimosas\, delicious food\, cabaret style performances\, sinfully sweet prizes sponsored by some of Reno’s best local businesses\, spooky drag queens\, and SCARES GALORE! \nDon’t miss out on this very special Halloween Edition of Reno’s HOTTEST drag brunch\, hosting a variety of drag\, burlesque\, cabaret\, and sexy fun performers! \nHalloween Makeup and Costume Contest:\nFor the month of October\, dress up in your spookiest\, most glamourous\, hauntingly sexy Halloween makeup/costume and enter a chance to win some spooktacular prizes\, including a cash prize of $100! \nTicket Information and Add-Ons:\nGeneral Admission $20 – Access to the brunch/show and 1 free entry into the prize raffle! \nVIP Admission $30 – Access to the brunch/show\, the BEST seats in the house with a special VIP server\, and 3 total entries into the prize raffle! (Limited Quantities available) \n***For General Admission – seating is on a first come\, first serve basis. For parties of 4 or more\, tables may be reserved\, but you must contact the organizers and they will do their best to accommodate! \n***Food and Drinks sold separately! \nDoors open at 12:00pm and the show starts at 1:00pm | Event is 21+
URL:https://leaddogbrewing.com/event/drag-brunch-with-the-twampsons-2/
LOCATION:Downtown Taproom\, 415 E 4th Street\, Reno\, NV\, 89512\, United States
ATTACH;FMTTYPE=image/png:https://leaddogbrewing.com/wp-content/uploads/2023/09/Lead-Dog-Oct-Brunch-Flyer.png
END:VEVENT
BEGIN:VEVENT
DTSTART;TZID=America/Los_Angeles:20231016T190000
DTEND;TZID=America/Los_Angeles:20231016T210000
DTSTAMP:20260424T005219
CREATED:20230731T215936Z
LAST-MODIFIED:20230731T220003Z
UID:10000050-1697482800-1697490000@leaddogbrewing.com
SUMMARY:DJ-Trivia
DESCRIPTION:Vibes\, music\, beer\, & cocktails. Featuring: Dirty Laundry\, Gina Rose Waller\, & Josiah Knight \n 
URL:https://leaddogbrewing.com/event/dj-trivia-2/2023-10-16/
LOCATION:Downtown Taproom\, 415 E 4th Street\, Reno\, NV\, 89512\, United States
ATTACH;FMTTYPE=image/jpeg:https://leaddogbrewing.com/wp-content/uploads/2022/12/LD_TriviaNight_UPDATE-1-scaled.jpg
END:VEVENT
BEGIN:VEVENT
DTSTART;TZID=America/Los_Angeles:20231019T190000
DTEND;TZID=America/Los_Angeles:20231019T210000
DTSTAMP:20260424T005219
CREATED:20230731T215936Z
LAST-MODIFIED:20230731T220003Z
UID:10000824-1697742000-1697749200@leaddogbrewing.com
SUMMARY:DJ-Trivia
DESCRIPTION:Vibes\, music\, beer\, & cocktails. Featuring: Dirty Laundry\, Gina Rose Waller\, & Josiah Knight \n 
URL:https://leaddogbrewing.com/event/dj-trivia-2/2023-10-19/
LOCATION:Downtown Taproom\, 415 E 4th Street\, Reno\, NV\, 89512\, United States
ATTACH;FMTTYPE=image/jpeg:https://leaddogbrewing.com/wp-content/uploads/2022/12/LD_TriviaNight_UPDATE-1-scaled.jpg
END:VEVENT
BEGIN:VEVENT
DTSTART;TZID=America/Los_Angeles:20231023T190000
DTEND;TZID=America/Los_Angeles:20231023T210000
DTSTAMP:20260424T005219
CREATED:20230731T215936Z
LAST-MODIFIED:20230731T220003Z
UID:10000051-1698087600-1698094800@leaddogbrewing.com
SUMMARY:DJ-Trivia
DESCRIPTION:Vibes\, music\, beer\, & cocktails. Featuring: Dirty Laundry\, Gina Rose Waller\, & Josiah Knight \n 
URL:https://leaddogbrewing.com/event/dj-trivia-2/2023-10-23/
LOCATION:Downtown Taproom\, 415 E 4th Street\, Reno\, NV\, 89512\, United States
ATTACH;FMTTYPE=image/jpeg:https://leaddogbrewing.com/wp-content/uploads/2022/12/LD_TriviaNight_UPDATE-1-scaled.jpg
END:VEVENT
BEGIN:VEVENT
DTSTART;TZID=America/Los_Angeles:20231026T190000
DTEND;TZID=America/Los_Angeles:20231026T210000
DTSTAMP:20260424T005219
CREATED:20230731T215936Z
LAST-MODIFIED:20230731T220003Z
UID:10000825-1698346800-1698354000@leaddogbrewing.com
SUMMARY:DJ-Trivia
DESCRIPTION:Vibes\, music\, beer\, & cocktails. Featuring: Dirty Laundry\, Gina Rose Waller\, & Josiah Knight \n 
URL:https://leaddogbrewing.com/event/dj-trivia-2/2023-10-26/
LOCATION:Downtown Taproom\, 415 E 4th Street\, Reno\, NV\, 89512\, United States
ATTACH;FMTTYPE=image/jpeg:https://leaddogbrewing.com/wp-content/uploads/2022/12/LD_TriviaNight_UPDATE-1-scaled.jpg
END:VEVENT
BEGIN:VEVENT
DTSTART;TZID=America/Los_Angeles:20231030T190000
DTEND;TZID=America/Los_Angeles:20231030T210000
DTSTAMP:20260424T005219
CREATED:20230731T215936Z
LAST-MODIFIED:20230731T220003Z
UID:10000052-1698692400-1698699600@leaddogbrewing.com
SUMMARY:DJ-Trivia
DESCRIPTION:Vibes\, music\, beer\, & cocktails. Featuring: Dirty Laundry\, Gina Rose Waller\, & Josiah Knight \n 
URL:https://leaddogbrewing.com/event/dj-trivia-2/2023-10-30/
LOCATION:Downtown Taproom\, 415 E 4th Street\, Reno\, NV\, 89512\, United States
ATTACH;FMTTYPE=image/jpeg:https://leaddogbrewing.com/wp-content/uploads/2022/12/LD_TriviaNight_UPDATE-1-scaled.jpg
END:VEVENT
END:VCALENDAR