BEGIN:VCALENDAR
VERSION:2.0
PRODID:-//Lead Dog Brewing - ECPv6.0.6.1//NONSGML v1.0//EN
CALSCALE:GREGORIAN
METHOD:PUBLISH
X-ORIGINAL-URL:https://leaddogbrewing.com
X-WR-CALDESC:Events for Lead Dog Brewing
REFRESH-INTERVAL;VALUE=DURATION:PT1H
X-Robots-Tag:noindex
X-PUBLISHED-TTL:PT1H
BEGIN:VTIMEZONE
TZID:America/Los_Angeles
BEGIN:DAYLIGHT
TZOFFSETFROM:-0800
TZOFFSETTO:-0700
TZNAME:PDT
DTSTART:20240310T100000
END:DAYLIGHT
BEGIN:STANDARD
TZOFFSETFROM:-0700
TZOFFSETTO:-0800
TZNAME:PST
DTSTART:20241103T090000
END:STANDARD
END:VTIMEZONE
BEGIN:VEVENT
DTSTART;TZID=America/Los_Angeles:20240502T190000
DTEND;TZID=America/Los_Angeles:20240502T210000
DTSTAMP:20260423T121030
CREATED:20240126T204814Z
LAST-MODIFIED:20250204T211638Z
UID:10000852-1714676400-1714683600@leaddogbrewing.com
SUMMARY:DJ-Trivia
DESCRIPTION:Vibes\, music\, beer\, & cocktails. Featuring: Dirty Laundry\, Gina Rose Waller\, & Josiah Knight \n 
URL:https://leaddogbrewing.com/event/dj-trivia-2-2/2024-05-02/
LOCATION:Downtown Taproom\, 415 E 4th Street\, Reno\, NV\, 89512\, United States
ATTACH;FMTTYPE=image/png:https://leaddogbrewing.com/wp-content/uploads/2025/02/Trivia-Post-Sunday-6-23-–-19.png
END:VEVENT
BEGIN:VEVENT
DTSTART;TZID=America/Los_Angeles:20240506T190000
DTEND;TZID=America/Los_Angeles:20240506T210000
DTSTAMP:20260423T121030
CREATED:20240126T204814Z
LAST-MODIFIED:20250204T211638Z
UID:10000079-1715022000-1715029200@leaddogbrewing.com
SUMMARY:DJ-Trivia
DESCRIPTION:Vibes\, music\, beer\, & cocktails. Featuring: Dirty Laundry\, Gina Rose Waller\, & Josiah Knight \n 
URL:https://leaddogbrewing.com/event/dj-trivia-2-2/2024-05-06/
LOCATION:Downtown Taproom\, 415 E 4th Street\, Reno\, NV\, 89512\, United States
ATTACH;FMTTYPE=image/png:https://leaddogbrewing.com/wp-content/uploads/2025/02/Trivia-Post-Sunday-6-23-–-19.png
END:VEVENT
BEGIN:VEVENT
DTSTART;TZID=America/Los_Angeles:20240507T173000
DTEND;TZID=America/Los_Angeles:20240507T210000
DTSTAMP:20260423T121030
CREATED:20240421T043705Z
LAST-MODIFIED:20240421T043854Z
UID:10001798-1715103000-1715115600@leaddogbrewing.com
SUMMARY:Silent Disco! - FREE
DESCRIPTION:
URL:https://leaddogbrewing.com/event/silent-disco/
LOCATION:Downtown Taproom\, 415 E 4th Street\, Reno\, NV\, 89512\, United States
ATTACH;FMTTYPE=image/jpeg:https://leaddogbrewing.com/wp-content/uploads/2024/04/Space-Silent-Disco-Party-Poster-Flyer-1.jpg
END:VEVENT
BEGIN:VEVENT
DTSTART;TZID=America/Los_Angeles:20240509T190000
DTEND;TZID=America/Los_Angeles:20240509T210000
DTSTAMP:20260423T121030
CREATED:20240126T204814Z
LAST-MODIFIED:20250204T211638Z
UID:10000853-1715281200-1715288400@leaddogbrewing.com
SUMMARY:DJ-Trivia
DESCRIPTION:Vibes\, music\, beer\, & cocktails. Featuring: Dirty Laundry\, Gina Rose Waller\, & Josiah Knight \n 
URL:https://leaddogbrewing.com/event/dj-trivia-2-2/2024-05-09/
LOCATION:Downtown Taproom\, 415 E 4th Street\, Reno\, NV\, 89512\, United States
ATTACH;FMTTYPE=image/png:https://leaddogbrewing.com/wp-content/uploads/2025/02/Trivia-Post-Sunday-6-23-–-19.png
END:VEVENT
BEGIN:VEVENT
DTSTART;TZID=America/Los_Angeles:20240513T190000
DTEND;TZID=America/Los_Angeles:20240513T210000
DTSTAMP:20260423T121030
CREATED:20240126T204814Z
LAST-MODIFIED:20250204T211638Z
UID:10000080-1715626800-1715634000@leaddogbrewing.com
SUMMARY:DJ-Trivia
DESCRIPTION:Vibes\, music\, beer\, & cocktails. Featuring: Dirty Laundry\, Gina Rose Waller\, & Josiah Knight \n 
URL:https://leaddogbrewing.com/event/dj-trivia-2-2/2024-05-13/
LOCATION:Downtown Taproom\, 415 E 4th Street\, Reno\, NV\, 89512\, United States
ATTACH;FMTTYPE=image/png:https://leaddogbrewing.com/wp-content/uploads/2025/02/Trivia-Post-Sunday-6-23-–-19.png
END:VEVENT
BEGIN:VEVENT
DTSTART;TZID=America/Los_Angeles:20240516T190000
DTEND;TZID=America/Los_Angeles:20240516T210000
DTSTAMP:20260423T121030
CREATED:20240126T204814Z
LAST-MODIFIED:20250204T211638Z
UID:10000854-1715886000-1715893200@leaddogbrewing.com
SUMMARY:DJ-Trivia
DESCRIPTION:Vibes\, music\, beer\, & cocktails. Featuring: Dirty Laundry\, Gina Rose Waller\, & Josiah Knight \n 
URL:https://leaddogbrewing.com/event/dj-trivia-2-2/2024-05-16/
LOCATION:Downtown Taproom\, 415 E 4th Street\, Reno\, NV\, 89512\, United States
ATTACH;FMTTYPE=image/png:https://leaddogbrewing.com/wp-content/uploads/2025/02/Trivia-Post-Sunday-6-23-–-19.png
END:VEVENT
BEGIN:VEVENT
DTSTART;TZID=America/Los_Angeles:20240520T190000
DTEND;TZID=America/Los_Angeles:20240520T210000
DTSTAMP:20260423T121030
CREATED:20240126T204814Z
LAST-MODIFIED:20250204T211638Z
UID:10000081-1716231600-1716238800@leaddogbrewing.com
SUMMARY:DJ-Trivia
DESCRIPTION:Vibes\, music\, beer\, & cocktails. Featuring: Dirty Laundry\, Gina Rose Waller\, & Josiah Knight \n 
URL:https://leaddogbrewing.com/event/dj-trivia-2-2/2024-05-20/
LOCATION:Downtown Taproom\, 415 E 4th Street\, Reno\, NV\, 89512\, United States
ATTACH;FMTTYPE=image/png:https://leaddogbrewing.com/wp-content/uploads/2025/02/Trivia-Post-Sunday-6-23-–-19.png
END:VEVENT
BEGIN:VEVENT
DTSTART;TZID=America/Los_Angeles:20240523T190000
DTEND;TZID=America/Los_Angeles:20240523T210000
DTSTAMP:20260423T121030
CREATED:20240126T204814Z
LAST-MODIFIED:20250204T211638Z
UID:10000855-1716490800-1716498000@leaddogbrewing.com
SUMMARY:DJ-Trivia
DESCRIPTION:Vibes\, music\, beer\, & cocktails. Featuring: Dirty Laundry\, Gina Rose Waller\, & Josiah Knight \n 
URL:https://leaddogbrewing.com/event/dj-trivia-2-2/2024-05-23/
LOCATION:Downtown Taproom\, 415 E 4th Street\, Reno\, NV\, 89512\, United States
ATTACH;FMTTYPE=image/png:https://leaddogbrewing.com/wp-content/uploads/2025/02/Trivia-Post-Sunday-6-23-–-19.png
END:VEVENT
BEGIN:VEVENT
DTSTART;TZID=America/Los_Angeles:20240527T190000
DTEND;TZID=America/Los_Angeles:20240527T210000
DTSTAMP:20260423T121030
CREATED:20240126T204814Z
LAST-MODIFIED:20250204T211638Z
UID:10000082-1716836400-1716843600@leaddogbrewing.com
SUMMARY:DJ-Trivia
DESCRIPTION:Vibes\, music\, beer\, & cocktails. Featuring: Dirty Laundry\, Gina Rose Waller\, & Josiah Knight \n 
URL:https://leaddogbrewing.com/event/dj-trivia-2-2/2024-05-27/
LOCATION:Downtown Taproom\, 415 E 4th Street\, Reno\, NV\, 89512\, United States
ATTACH;FMTTYPE=image/png:https://leaddogbrewing.com/wp-content/uploads/2025/02/Trivia-Post-Sunday-6-23-–-19.png
END:VEVENT
BEGIN:VEVENT
DTSTART;TZID=America/Los_Angeles:20240530T190000
DTEND;TZID=America/Los_Angeles:20240530T210000
DTSTAMP:20260423T121030
CREATED:20240126T204814Z
LAST-MODIFIED:20250204T211638Z
UID:10000856-1717095600-1717102800@leaddogbrewing.com
SUMMARY:DJ-Trivia
DESCRIPTION:Vibes\, music\, beer\, & cocktails. Featuring: Dirty Laundry\, Gina Rose Waller\, & Josiah Knight \n 
URL:https://leaddogbrewing.com/event/dj-trivia-2-2/2024-05-30/
LOCATION:Downtown Taproom\, 415 E 4th Street\, Reno\, NV\, 89512\, United States
ATTACH;FMTTYPE=image/png:https://leaddogbrewing.com/wp-content/uploads/2025/02/Trivia-Post-Sunday-6-23-–-19.png
END:VEVENT
BEGIN:VEVENT
DTSTART;TZID=America/Los_Angeles:20240531T203000
DTEND;TZID=America/Los_Angeles:20240531T223000
DTSTAMP:20260423T121030
CREATED:20240528T210443Z
LAST-MODIFIED:20240528T210443Z
UID:10001799-1717187400-1717194600@leaddogbrewing.com
SUMMARY:MOONLIGHT: Electro-Burlesque with the Moon Muses
DESCRIPTION:DOORS OPEN AT 7:30PM. \n4 Person Low Table is sold as 1 seat\, but includes 4 people. \n3 Person Low Table is sold as 1 seat\, but includes 4 people. \n4 Person High Table is sold as 1 seat\, but includes 4 people. \nSingle Seats are general admission\, first come first serve. \nCall 775-830-1589 for questions. \nGet up close and personal with sultry and elevated burlesque artistry like you have never seen before\, all set to the electrifying soundscape of our gorgeous house dj. \nExperience captivating performances from local seasoned pros and get ready to immerse yourself in a unique fusion of live vocalists\, classically trained dancers\, and a female house dj\, all wrapped together with theatricality\, tease and surprise\, promising a night of unforgettable entertainment! \nWe celebrate the power of live performing arts by taking the audience on a journey through posh sounds and elegant movement as Marla Paulina’s dynamic choreography weaves elements of contemporary\, jazz\, hip hop\, and burlesque fusions into a mesmerizing tapestry of movement within arms reach in our beautiful intimate venue: Lead Dog Brewery. The entire space becomes the stage. With choreographic precision\, grace\, unparalleled skill and mastery to their craft\, only the highest caliber of performers await you in this production as every moment of the show is curated with care and intention offering a provocative and empowering exploration of sensuality and self-expression. We deliver captivating acts that celebrate the beauty of the human form and emotion. \nOur magnetic variety show ‘Moonlight’: Electro-Burlesque with the Moon Muses will be running for very limited dates and our previous productions have a track record of selling out—grab your tickets now while you can. \nMature audiences only\, 21+
URL:https://leaddogbrewing.com/event/moonlight-electro-burlesque-with-the-moon-muses-6/
LOCATION:Downtown Taproom\, 415 E 4th Street\, Reno\, NV\, 89512\, United States
ATTACH;FMTTYPE=image/jpeg:https://leaddogbrewing.com/wp-content/uploads/2024/01/burlesque.jpeg
END:VEVENT
END:VCALENDAR