BEGIN:VCALENDAR
VERSION:2.0
PRODID:-//Lead Dog Brewing - ECPv6.0.6.1//NONSGML v1.0//EN
CALSCALE:GREGORIAN
METHOD:PUBLISH
X-WR-CALNAME:Lead Dog Brewing
X-ORIGINAL-URL:https://leaddogbrewing.com
X-WR-CALDESC:Events for Lead Dog Brewing
REFRESH-INTERVAL;VALUE=DURATION:PT1H
X-Robots-Tag:noindex
X-PUBLISHED-TTL:PT1H
BEGIN:VTIMEZONE
TZID:America/Los_Angeles
BEGIN:DAYLIGHT
TZOFFSETFROM:-0800
TZOFFSETTO:-0700
TZNAME:PDT
DTSTART:20250309T100000
END:DAYLIGHT
BEGIN:STANDARD
TZOFFSETFROM:-0700
TZOFFSETTO:-0800
TZNAME:PST
DTSTART:20251102T090000
END:STANDARD
END:VTIMEZONE
BEGIN:VEVENT
DTSTART;TZID=America/Los_Angeles:20250102T190000
DTEND;TZID=America/Los_Angeles:20250102T210000
DTSTAMP:20260422T203738
CREATED:20240126T204814Z
LAST-MODIFIED:20250204T211638Z
UID:10000887-1735844400-1735851600@leaddogbrewing.com
SUMMARY:DJ-Trivia
DESCRIPTION:Vibes\, music\, beer\, & cocktails. Featuring: Dirty Laundry\, Gina Rose Waller\, & Josiah Knight \n 
URL:https://leaddogbrewing.com/event/dj-trivia-2-2/2025-01-02/
LOCATION:Downtown Taproom\, 415 E 4th Street\, Reno\, NV\, 89512\, United States
ATTACH;FMTTYPE=image/png:https://leaddogbrewing.com/wp-content/uploads/2025/02/Trivia-Post-Sunday-6-23-–-19.png
END:VEVENT
BEGIN:VEVENT
DTSTART;TZID=America/Los_Angeles:20250106T190000
DTEND;TZID=America/Los_Angeles:20250106T210000
DTSTAMP:20260422T203738
CREATED:20240126T204814Z
LAST-MODIFIED:20250204T211638Z
UID:10000114-1736190000-1736197200@leaddogbrewing.com
SUMMARY:DJ-Trivia
DESCRIPTION:Vibes\, music\, beer\, & cocktails. Featuring: Dirty Laundry\, Gina Rose Waller\, & Josiah Knight \n 
URL:https://leaddogbrewing.com/event/dj-trivia-2-2/2025-01-06/
LOCATION:Downtown Taproom\, 415 E 4th Street\, Reno\, NV\, 89512\, United States
ATTACH;FMTTYPE=image/png:https://leaddogbrewing.com/wp-content/uploads/2025/02/Trivia-Post-Sunday-6-23-–-19.png
END:VEVENT
BEGIN:VEVENT
DTSTART;TZID=America/Los_Angeles:20250109T190000
DTEND;TZID=America/Los_Angeles:20250109T210000
DTSTAMP:20260422T203738
CREATED:20240126T204814Z
LAST-MODIFIED:20250204T211638Z
UID:10000888-1736449200-1736456400@leaddogbrewing.com
SUMMARY:DJ-Trivia
DESCRIPTION:Vibes\, music\, beer\, & cocktails. Featuring: Dirty Laundry\, Gina Rose Waller\, & Josiah Knight \n 
URL:https://leaddogbrewing.com/event/dj-trivia-2-2/2025-01-09/
LOCATION:Downtown Taproom\, 415 E 4th Street\, Reno\, NV\, 89512\, United States
ATTACH;FMTTYPE=image/png:https://leaddogbrewing.com/wp-content/uploads/2025/02/Trivia-Post-Sunday-6-23-–-19.png
END:VEVENT
BEGIN:VEVENT
DTSTART;TZID=America/Los_Angeles:20250113T190000
DTEND;TZID=America/Los_Angeles:20250113T210000
DTSTAMP:20260422T203738
CREATED:20240126T204814Z
LAST-MODIFIED:20250204T211638Z
UID:10000115-1736794800-1736802000@leaddogbrewing.com
SUMMARY:DJ-Trivia
DESCRIPTION:Vibes\, music\, beer\, & cocktails. Featuring: Dirty Laundry\, Gina Rose Waller\, & Josiah Knight \n 
URL:https://leaddogbrewing.com/event/dj-trivia-2-2/2025-01-13/
LOCATION:Downtown Taproom\, 415 E 4th Street\, Reno\, NV\, 89512\, United States
ATTACH;FMTTYPE=image/png:https://leaddogbrewing.com/wp-content/uploads/2025/02/Trivia-Post-Sunday-6-23-–-19.png
END:VEVENT
BEGIN:VEVENT
DTSTART;TZID=America/Los_Angeles:20250116T190000
DTEND;TZID=America/Los_Angeles:20250116T210000
DTSTAMP:20260422T203738
CREATED:20240126T204814Z
LAST-MODIFIED:20250204T211638Z
UID:10000889-1737054000-1737061200@leaddogbrewing.com
SUMMARY:DJ-Trivia
DESCRIPTION:Vibes\, music\, beer\, & cocktails. Featuring: Dirty Laundry\, Gina Rose Waller\, & Josiah Knight \n 
URL:https://leaddogbrewing.com/event/dj-trivia-2-2/2025-01-16/
LOCATION:Downtown Taproom\, 415 E 4th Street\, Reno\, NV\, 89512\, United States
ATTACH;FMTTYPE=image/png:https://leaddogbrewing.com/wp-content/uploads/2025/02/Trivia-Post-Sunday-6-23-–-19.png
END:VEVENT
BEGIN:VEVENT
DTSTART;TZID=America/Los_Angeles:20250120T190000
DTEND;TZID=America/Los_Angeles:20250120T210000
DTSTAMP:20260422T203738
CREATED:20240126T204814Z
LAST-MODIFIED:20250204T211638Z
UID:10000116-1737399600-1737406800@leaddogbrewing.com
SUMMARY:DJ-Trivia
DESCRIPTION:Vibes\, music\, beer\, & cocktails. Featuring: Dirty Laundry\, Gina Rose Waller\, & Josiah Knight \n 
URL:https://leaddogbrewing.com/event/dj-trivia-2-2/2025-01-20/
LOCATION:Downtown Taproom\, 415 E 4th Street\, Reno\, NV\, 89512\, United States
ATTACH;FMTTYPE=image/png:https://leaddogbrewing.com/wp-content/uploads/2025/02/Trivia-Post-Sunday-6-23-–-19.png
END:VEVENT
BEGIN:VEVENT
DTSTART;TZID=America/Los_Angeles:20250123T190000
DTEND;TZID=America/Los_Angeles:20250123T210000
DTSTAMP:20260422T203738
CREATED:20240126T204814Z
LAST-MODIFIED:20250204T211638Z
UID:10000890-1737658800-1737666000@leaddogbrewing.com
SUMMARY:DJ-Trivia
DESCRIPTION:Vibes\, music\, beer\, & cocktails. Featuring: Dirty Laundry\, Gina Rose Waller\, & Josiah Knight \n 
URL:https://leaddogbrewing.com/event/dj-trivia-2-2/2025-01-23/
LOCATION:Downtown Taproom\, 415 E 4th Street\, Reno\, NV\, 89512\, United States
ATTACH;FMTTYPE=image/png:https://leaddogbrewing.com/wp-content/uploads/2025/02/Trivia-Post-Sunday-6-23-–-19.png
END:VEVENT
BEGIN:VEVENT
DTSTART;TZID=America/Los_Angeles:20250127T190000
DTEND;TZID=America/Los_Angeles:20250127T210000
DTSTAMP:20260422T203738
CREATED:20240126T204814Z
LAST-MODIFIED:20250204T211638Z
UID:10000117-1738004400-1738011600@leaddogbrewing.com
SUMMARY:DJ-Trivia
DESCRIPTION:Vibes\, music\, beer\, & cocktails. Featuring: Dirty Laundry\, Gina Rose Waller\, & Josiah Knight \n 
URL:https://leaddogbrewing.com/event/dj-trivia-2-2/2025-01-27/
LOCATION:Downtown Taproom\, 415 E 4th Street\, Reno\, NV\, 89512\, United States
ATTACH;FMTTYPE=image/png:https://leaddogbrewing.com/wp-content/uploads/2025/02/Trivia-Post-Sunday-6-23-–-19.png
END:VEVENT
BEGIN:VEVENT
DTSTART;TZID=America/Los_Angeles:20250130T190000
DTEND;TZID=America/Los_Angeles:20250130T210000
DTSTAMP:20260422T203738
CREATED:20240126T204814Z
LAST-MODIFIED:20250204T211638Z
UID:10000891-1738263600-1738270800@leaddogbrewing.com
SUMMARY:DJ-Trivia
DESCRIPTION:Vibes\, music\, beer\, & cocktails. Featuring: Dirty Laundry\, Gina Rose Waller\, & Josiah Knight \n 
URL:https://leaddogbrewing.com/event/dj-trivia-2-2/2025-01-30/
LOCATION:Downtown Taproom\, 415 E 4th Street\, Reno\, NV\, 89512\, United States
ATTACH;FMTTYPE=image/png:https://leaddogbrewing.com/wp-content/uploads/2025/02/Trivia-Post-Sunday-6-23-–-19.png
END:VEVENT
END:VCALENDAR