BEGIN:VCALENDAR
VERSION:2.0
PRODID:-//Lead Dog Brewing - ECPv6.0.6.1//NONSGML v1.0//EN
CALSCALE:GREGORIAN
METHOD:PUBLISH
X-ORIGINAL-URL:https://leaddogbrewing.com
X-WR-CALDESC:Events for Lead Dog Brewing
REFRESH-INTERVAL;VALUE=DURATION:PT1H
X-Robots-Tag:noindex
X-PUBLISHED-TTL:PT1H
BEGIN:VTIMEZONE
TZID:America/Los_Angeles
BEGIN:DAYLIGHT
TZOFFSETFROM:-0800
TZOFFSETTO:-0700
TZNAME:PDT
DTSTART:20250309T100000
END:DAYLIGHT
BEGIN:STANDARD
TZOFFSETFROM:-0700
TZOFFSETTO:-0800
TZNAME:PST
DTSTART:20251102T090000
END:STANDARD
END:VTIMEZONE
BEGIN:VEVENT
DTSTART;TZID=America/Los_Angeles:20251002T190000
DTEND;TZID=America/Los_Angeles:20251002T210000
DTSTAMP:20260420T023017
CREATED:20240126T204814Z
LAST-MODIFIED:20250204T211638Z
UID:10000926-1759431600-1759438800@leaddogbrewing.com
SUMMARY:DJ-Trivia
DESCRIPTION:Vibes\, music\, beer\, & cocktails. Featuring: Dirty Laundry\, Gina Rose Waller\, & Josiah Knight \n 
URL:https://leaddogbrewing.com/event/dj-trivia-2-2/2025-10-02/
LOCATION:Downtown Taproom\, 415 E 4th Street\, Reno\, NV\, 89512\, United States
ATTACH;FMTTYPE=image/png:https://leaddogbrewing.com/wp-content/uploads/2025/02/Trivia-Post-Sunday-6-23-–-19.png
END:VEVENT
BEGIN:VEVENT
DTSTART;TZID=America/Los_Angeles:20251006T190000
DTEND;TZID=America/Los_Angeles:20251006T210000
DTSTAMP:20260420T023017
CREATED:20240126T204814Z
LAST-MODIFIED:20250204T211638Z
UID:10000153-1759777200-1759784400@leaddogbrewing.com
SUMMARY:DJ-Trivia
DESCRIPTION:Vibes\, music\, beer\, & cocktails. Featuring: Dirty Laundry\, Gina Rose Waller\, & Josiah Knight \n 
URL:https://leaddogbrewing.com/event/dj-trivia-2-2/2025-10-06/
LOCATION:Downtown Taproom\, 415 E 4th Street\, Reno\, NV\, 89512\, United States
ATTACH;FMTTYPE=image/png:https://leaddogbrewing.com/wp-content/uploads/2025/02/Trivia-Post-Sunday-6-23-–-19.png
END:VEVENT
BEGIN:VEVENT
DTSTART;TZID=America/Los_Angeles:20251009T190000
DTEND;TZID=America/Los_Angeles:20251009T210000
DTSTAMP:20260420T023017
CREATED:20240126T204814Z
LAST-MODIFIED:20250204T211638Z
UID:10000927-1760036400-1760043600@leaddogbrewing.com
SUMMARY:DJ-Trivia
DESCRIPTION:Vibes\, music\, beer\, & cocktails. Featuring: Dirty Laundry\, Gina Rose Waller\, & Josiah Knight \n 
URL:https://leaddogbrewing.com/event/dj-trivia-2-2/2025-10-09/
LOCATION:Downtown Taproom\, 415 E 4th Street\, Reno\, NV\, 89512\, United States
ATTACH;FMTTYPE=image/png:https://leaddogbrewing.com/wp-content/uploads/2025/02/Trivia-Post-Sunday-6-23-–-19.png
END:VEVENT
BEGIN:VEVENT
DTSTART;TZID=America/Los_Angeles:20251013T190000
DTEND;TZID=America/Los_Angeles:20251013T210000
DTSTAMP:20260420T023017
CREATED:20240126T204814Z
LAST-MODIFIED:20250204T211638Z
UID:10000154-1760382000-1760389200@leaddogbrewing.com
SUMMARY:DJ-Trivia
DESCRIPTION:Vibes\, music\, beer\, & cocktails. Featuring: Dirty Laundry\, Gina Rose Waller\, & Josiah Knight \n 
URL:https://leaddogbrewing.com/event/dj-trivia-2-2/2025-10-13/
LOCATION:Downtown Taproom\, 415 E 4th Street\, Reno\, NV\, 89512\, United States
ATTACH;FMTTYPE=image/png:https://leaddogbrewing.com/wp-content/uploads/2025/02/Trivia-Post-Sunday-6-23-–-19.png
END:VEVENT
BEGIN:VEVENT
DTSTART;TZID=America/Los_Angeles:20251016T190000
DTEND;TZID=America/Los_Angeles:20251016T210000
DTSTAMP:20260420T023017
CREATED:20240126T204814Z
LAST-MODIFIED:20250204T211638Z
UID:10000928-1760641200-1760648400@leaddogbrewing.com
SUMMARY:DJ-Trivia
DESCRIPTION:Vibes\, music\, beer\, & cocktails. Featuring: Dirty Laundry\, Gina Rose Waller\, & Josiah Knight \n 
URL:https://leaddogbrewing.com/event/dj-trivia-2-2/2025-10-16/
LOCATION:Downtown Taproom\, 415 E 4th Street\, Reno\, NV\, 89512\, United States
ATTACH;FMTTYPE=image/png:https://leaddogbrewing.com/wp-content/uploads/2025/02/Trivia-Post-Sunday-6-23-–-19.png
END:VEVENT
BEGIN:VEVENT
DTSTART;TZID=America/Los_Angeles:20251020T190000
DTEND;TZID=America/Los_Angeles:20251020T210000
DTSTAMP:20260420T023017
CREATED:20240126T204814Z
LAST-MODIFIED:20250204T211638Z
UID:10000155-1760986800-1760994000@leaddogbrewing.com
SUMMARY:DJ-Trivia
DESCRIPTION:Vibes\, music\, beer\, & cocktails. Featuring: Dirty Laundry\, Gina Rose Waller\, & Josiah Knight \n 
URL:https://leaddogbrewing.com/event/dj-trivia-2-2/2025-10-20/
LOCATION:Downtown Taproom\, 415 E 4th Street\, Reno\, NV\, 89512\, United States
ATTACH;FMTTYPE=image/png:https://leaddogbrewing.com/wp-content/uploads/2025/02/Trivia-Post-Sunday-6-23-–-19.png
END:VEVENT
BEGIN:VEVENT
DTSTART;TZID=America/Los_Angeles:20251023T190000
DTEND;TZID=America/Los_Angeles:20251023T210000
DTSTAMP:20260420T023017
CREATED:20240126T204814Z
LAST-MODIFIED:20250204T211638Z
UID:10000929-1761246000-1761253200@leaddogbrewing.com
SUMMARY:DJ-Trivia
DESCRIPTION:Vibes\, music\, beer\, & cocktails. Featuring: Dirty Laundry\, Gina Rose Waller\, & Josiah Knight \n 
URL:https://leaddogbrewing.com/event/dj-trivia-2-2/2025-10-23/
LOCATION:Downtown Taproom\, 415 E 4th Street\, Reno\, NV\, 89512\, United States
ATTACH;FMTTYPE=image/png:https://leaddogbrewing.com/wp-content/uploads/2025/02/Trivia-Post-Sunday-6-23-–-19.png
END:VEVENT
BEGIN:VEVENT
DTSTART;TZID=America/Los_Angeles:20251027T190000
DTEND;TZID=America/Los_Angeles:20251027T210000
DTSTAMP:20260420T023017
CREATED:20240126T204814Z
LAST-MODIFIED:20250204T211638Z
UID:10000156-1761591600-1761598800@leaddogbrewing.com
SUMMARY:DJ-Trivia
DESCRIPTION:Vibes\, music\, beer\, & cocktails. Featuring: Dirty Laundry\, Gina Rose Waller\, & Josiah Knight \n 
URL:https://leaddogbrewing.com/event/dj-trivia-2-2/2025-10-27/
LOCATION:Downtown Taproom\, 415 E 4th Street\, Reno\, NV\, 89512\, United States
ATTACH;FMTTYPE=image/png:https://leaddogbrewing.com/wp-content/uploads/2025/02/Trivia-Post-Sunday-6-23-–-19.png
END:VEVENT
BEGIN:VEVENT
DTSTART;TZID=America/Los_Angeles:20251030T190000
DTEND;TZID=America/Los_Angeles:20251030T210000
DTSTAMP:20260420T023017
CREATED:20240126T204814Z
LAST-MODIFIED:20250204T211638Z
UID:10000930-1761850800-1761858000@leaddogbrewing.com
SUMMARY:DJ-Trivia
DESCRIPTION:Vibes\, music\, beer\, & cocktails. Featuring: Dirty Laundry\, Gina Rose Waller\, & Josiah Knight \n 
URL:https://leaddogbrewing.com/event/dj-trivia-2-2/2025-10-30/
LOCATION:Downtown Taproom\, 415 E 4th Street\, Reno\, NV\, 89512\, United States
ATTACH;FMTTYPE=image/png:https://leaddogbrewing.com/wp-content/uploads/2025/02/Trivia-Post-Sunday-6-23-–-19.png
END:VEVENT
END:VCALENDAR